BEGIN:VCALENDAR
VERSION:2.0
PRODID:-//wp-events-plugin.com//7.2.3.1//EN
TZID:Europe/Amsterdam
X-WR-TIMEZONE:Europe/Amsterdam
BEGIN:VEVENT
UID:1295@duurzaam-ondernemen.nl
DTSTART;TZID=Europe/Amsterdam:20240619T000000
DTEND;TZID=Europe/Amsterdam:20240619T000000
DTSTAMP:20240318T134101Z
URL:https://www.duurzaam-ondernemen.nl/events/esg-voor-finance-control/
SUMMARY:ESG voor Finance & Control
DESCRIPTION:Transparantie en verantwoord ondernemerschap zijn inmiddels onm
 isbaar in het hedendaagse bedrijfsleven\, terwijl navigeren door de comple
 xe wereld van ESG-rapportages en regelgeving voor velen nog een uitdaging 
 is. Duurzaamheid staat centraal in elke bedrijfsstrategie\, maar hoe align
 eer je nu operationele beslissingen met belangrijke prestatie-indicatoren 
 (KPI's) gericht op duurzaamheid? En hoe realiseer je tegelijkertijd een po
 sitieve impact op de bottom line met een duurzaamheidsstrategie?\n\nHet pr
 ogramma 'ESG voor Finance &amp\; Control' is op maat gemaakt om deelnemers
  in staat te stellen hun duurzaamheidsstrategie en -ambities te realiseren
 \, en hier zo transparant en effectief mogelijk over te rapporteren. Dit u
 nieke programma leert je deuren te openen naar innovatie\, groene financie
 ringsopties en voorziet in een diepgaand begrip van de impact van duurzaam
 heidsrapportages op personeel\, supply chain partners\, kapitaalverstrekke
 rs en concurrenten.\nDUURZAAMHEIDSRAPPORTAGES EFFECTIEF TOEPASSEN\nHet Adv
 anced Program ESG voor Finance &amp\; Control biedt een dynamische mix van
  academische diepgang\, praktische oefeningen en waardevolle inzichten uit
  de praktijk. Het programma wordt geleid door 3 vooraanstaande TIAS-profes
 soren\, elk met hun eigen expertisegebied. Het leerproces wordt verder ver
 rijkt met gastcolleges van experts uit de industrie\, die praktische kenni
 s bieden om jouw duurzame strategie te verheffen.\n\nWe starten deze dried
 aagse met een Sustainable Development Game\, waarbij je strategische besli
 ssingen neemt die rechtstreeks van invloed zijn op belangrijke prestatie-i
 ndicatoren. We duiken we in de complexe wereld van CSRD en duurzaamheidsra
 pportages\,  je leert hoe je adequaat kunt navigeren door regelgeving en 
 hoe je niet-financiële informatie naadloos integreert in rapportages.\nDE
 ELNEMERSPROFIEL\nHet programma ESG voor Finance &amp\; Control is bedoeld
  voor professionals die beter willen leren navigeren door de complexe were
 ld van duurzaamheid\, CSRD en ESG reporting. Of je nu een doorgewinterde m
 anager\, executive\, of startende professional bent\, en of je nu uit de f
 inanciële of niet-financiële sector komt\, zolang je gemotiveerd bent om
  je expertise te verdiepen en de specifieke uitdagingen en kansen rondom d
 uurzaamheidsrapportage aan te pakken\, dan is dit programma iets voor jou.
 \n\nDeelnemers zijn onder andere:\n\n 	CSR-manager\n 	Controller\n 	Risico
 manager\n 	Compliance officer\n 	Business analist\n 	Ondernemer\n\nTOELATI
 NGSEISEN\nWij streven naar deelnemersgroepen waar veel talent\, ervaring e
 n potentie aanwezig is. Daarom hanteren we toelatingseisen. Op die manier 
 garanderen wij onderwijs op topniveau. Wij vragen:\n\n 	Minimaal 2 jaar we
 rkervaring in een relevante functie.\n 	Een stevige basis in financiële c
 oncepten en methoden.\n 	Een afgeronde hbo- of wo-opleiding.\n\nData en lo
 catie\n19\, 20\, 21 juni 2024: Tilburg Campus\n\n7\, 8\, 9 oktober 2024: U
 trecht Campus\n\n&nbsp\;\n\nMeer informatie/aanmelden
ATTACH;FMTTYPE=image/jpeg:https://www.duurzaam-ondernemen.nl/wordpress/wp-
 content/uploads/2024/03/ESG-scaled.jpg
CATEGORIES:Duurzaamheidsprofessionals,Verslaggeving &amp; Transparantie
LOCATION:TIAS Campus Tilburg\, Warandelaan 2\, Tilburg\, 5037 AB\, Nederlan
 d
GEO:51.564035;5.043603
X-APPLE-STRUCTURED-LOCATION;VALUE=URI;X-ADDRESS=Warandelaan 2\, Tilburg\, 5
 037 AB\, Nederland;X-APPLE-RADIUS=100;X-TITLE=TIAS Campus Tilburg:geo:51.5
 64035,5.043603
END:VEVENT
BEGIN:VTIMEZONE
TZID:Europe/Amsterdam
X-LIC-LOCATION:Europe/Amsterdam
BEGIN:DAYLIGHT
DTSTART:20240331T030000
TZOFFSETFROM:+0100
TZOFFSETTO:+0200
TZNAME:CEST
END:DAYLIGHT
END:VTIMEZONE
END:VCALENDAR