BEGIN:VCALENDAR
VERSION:2.0
PRODID:-//wp-events-plugin.com//7.2.3.1//EN
TZID:Europe/Amsterdam
X-WR-TIMEZONE:Europe/Amsterdam
BEGIN:VEVENT
UID:1201@duurzaam-ondernemen.nl
DTSTART;TZID=Europe/Amsterdam:20240321T150000
DTEND;TZID=Europe/Amsterdam:20240321T170000
DTSTAMP:20240312T154326Z
URL:https://www.duurzaam-ondernemen.nl/events/esg-essentials-online-cursus
 /
SUMMARY:ESG Essentials - online cursus
DESCRIPTION:Ontvang hands-on kennis van ESG\, van de basis tot aan een comp
 lete bedrijfsstrategie\, en leer alles over Europese rapportageverplichtin
 gen.\n\nVeel organisaties in Nederland hebben inmiddels een behoorlijke st
 ap gezet met het formuleren en realiseren van ESG doelen. ESG als trend wo
 rdt steeds sterker en is niet meer weg te denken\, inmiddels wordt ESG zel
 fs gevangen in (Europese) wetgeving.\n\nSessie 1: Inzicht\nAls professiona
 l komt er veel op je af. Tijdens het eerste online deel van de ESG Essenti
 al training krijg je inzicht in het ESG-landschap en internationale raamwe
 rken\, hoe ESG invloed heeft op de strategie van de onderneming en wordt e
 en een verdiepend beeld gegeven van de CSRD en het ESRS-raamwerk.\n\nSessi
 e 2: Toepassing in eigen bedrijf\nCentraal tijdens de training staat ook d
 at je door middel van de toepassing van ESG als organisatie een betere pos
 itie in de markt kan bereiken door gebruik te maken van de voordelen die h
 et inzicht en de ESG prestaties biedt. Tijdens de tweede interactieve onli
 ne sessie laten we hier voorbeelden en cases van zien\, maar gaan we ook a
 ctief aan de slag met de toepassing van ESG doelen in je eigen bedrijf zod
 at je vanuit de cursus ook handvatten krijgt om de theorie verder in de pr
 aktijk te brengen.\n\nVoor wie?\nDeze cursus is een ‘must’ voor profes
 sionals die ESG verantwoordelijkheden hebben of gaan krijgen en willen wet
 en wat er op hen afkomt\, zoals accountants\, adviseurs\, CFO’s\, Financ
 e managers\, inkoopprofessionals\, Business owners\, operations managers\,
  KAM coördinatoren\, HSE-ers etc.\n\nData: online cursus op 21 en 28 maar
 t van 15:00-17:00\n\nMeer informatie/aanmelden
ATTACH;FMTTYPE=image/jpeg:https://www.duurzaam-ondernemen.nl/wordpress/wp-
 content/uploads/2024/01/21-mrt-2024-ESG-Essentials-online-cursus.png
CATEGORIES:Verslaggeving &amp; Transparantie
LOCATION:Van der Valk Hotel Breukelen\, Stationsweg 91\, Breukelen\, 3621 L
 K \, Nederland
GEO:52.168812;4.989937
X-APPLE-STRUCTURED-LOCATION;VALUE=URI;X-ADDRESS=Stationsweg 91\, Breukelen\
 , 3621 LK \, Nederland;X-APPLE-RADIUS=100;X-TITLE=Van der Valk Hotel Breuk
 elen:geo:52.168812,4.989937
END:VEVENT
BEGIN:VTIMEZONE
TZID:Europe/Amsterdam
X-LIC-LOCATION:Europe/Amsterdam
BEGIN:STANDARD
DTSTART:20231029T020000
TZOFFSETFROM:+0200
TZOFFSETTO:+0100
TZNAME:CET
END:STANDARD
END:VTIMEZONE
END:VCALENDAR