BEGIN:VCALENDAR
VERSION:2.0
PRODID:-//wp-events-plugin.com//7.2.3.1//EN
TZID:Europe/Amsterdam
X-WR-TIMEZONE:Europe/Amsterdam
BEGIN:VEVENT
UID:2028@duurzaam-ondernemen.nl
DTSTART;TZID=Europe/Amsterdam:20260318T150000
DTEND;TZID=Europe/Amsterdam:20260318T170000
DTSTAMP:20260313T085714Z
URL:https://www.duurzaam-ondernemen.nl/events/empco-ecgt-greenwashing-rege
 ls-ontrafeld/
SUMMARY:EmpCo\, ECGT… greenwashing regels ontrafeld
DESCRIPTION:De regels om greenwashing te voorkomen veranderen dit najaar\, 
 en daarbij komen verschillende termen voorbij: EmpCo\, Green Claims Direct
 ive\, ECGT\, OHP… Wat betekenen deze regels en wat geldt er nu voor jouw
  organisatie? In deze sessie legt juridisch expert Jellien Roelofs van 
 Lasting Legal op een heldere manier uit hoe bestaande en nieuwe regelgevi
 ng rondom duurzaamheidsclaims in elkaar zit en wat dit betekent voor jouw 
 communicatie.\n\nWat leer je?\n&#x25aa\;&#xfe0f\;Welke regelgeving nu al g
 eldt om greenwashing te voorkomen\n&#x25aa\;&#xfe0f\;Hoe bestaande en nieu
 we regelgeving rondom duurzaamheidsclaims in elkaar zit\n&#x25aa\;&#xfe0f\
 ;Hoe je onbewust toch misleidende claims kunt maken\n&#x25aa\;&#xfe0f\;Wat
  er dit najaar verandert en wat termen als EmpCo\, Green Claims Directive\
 , ECGT en OHP betekenen\n&#x25aa\;&#xfe0f\;Welke regels er wél en niet ga
 an komen\, en wanneer ze van kracht worden\n&#x25aa\;&#xfe0f\;Praktijkvoor
 beelden van waar het mis kan gaan én hoe het goed aan te pakken\n&#x25aa\
 ;&#xfe0f\;Concrete implicaties voor de claims die jij maakt\n\nVoor wie?\n
 Marketeers\, communicatieprofessionals en ondernemers die zorgvuldig moete
 n communiceren over duurzaamheid. Ook geschikt voor duurzaamheidsprofessio
 nals die het belang van geloofwaardige claims kennen.\n\nWaarom deelnemen?
 \nOnzekerheid maakt het lastig om met vertrouwen te communiceren als bedri
 jf. Deze sessie biedt overzicht\, praktijkvoorbeelden en concrete handvatt
 en om beter te communiceren. Geen juridisch jargon\, maar heldere uitleg z
 odat je precies weet waar je op moet letten en hoe je het beter aanpakt. N
 a afloop weet je waar je aan toe bent en waar je moet beginnen.\nMeer info
 rmatie/aanmelden
ATTACH;FMTTYPE=image/jpeg:https://www.duurzaam-ondernemen.nl/wordpress/wp-
 content/uploads/2026/03/Impact-Clubhuis-Agenda-Lasting-Legal-1.png
CATEGORIES:Duurzaamheidsprofessionals,Verslaggeving &amp; Transparantie
LOCATION:Social Impact Factory - Aan de Gracht\, Kromme Nieuwegracht 3\, Ut
 recht\, 3512 HC\, 
GEO:52.092233;5.123791
X-APPLE-STRUCTURED-LOCATION;VALUE=URI;X-ADDRESS=Kromme Nieuwegracht 3\, Utr
 echt\, 3512 HC\, ;X-APPLE-RADIUS=100;X-TITLE=Social Impact Factory - Aan d
 e Gracht:geo:52.092233,5.123791
END:VEVENT
BEGIN:VTIMEZONE
TZID:Europe/Amsterdam
X-LIC-LOCATION:Europe/Amsterdam
BEGIN:STANDARD
DTSTART:20251026T020000
TZOFFSETFROM:+0200
TZOFFSETTO:+0100
TZNAME:CET
END:STANDARD
END:VTIMEZONE
END:VCALENDAR