BEGIN:VCALENDAR
VERSION:2.0
PRODID:-//wp-events-plugin.com//7.2.3.1//EN
TZID:Europe/Amsterdam
X-WR-TIMEZONE:Europe/Amsterdam
BEGIN:VEVENT
UID:1929@duurzaam-ondernemen.nl
DTSTART;TZID=Europe/Amsterdam:20260901T130000
DTEND;TZID=Europe/Amsterdam:20260901T170000
DTSTAMP:20251205T114829Z
URL:https://www.duurzaam-ondernemen.nl/events/duurzame-dinsdag-2026/
SUMMARY:Duurzame Dinsdag 2026
DESCRIPTION:De eerste dinsdag van september is Duurzame Dinsdag. Een bijzon
 dere dag waarop duurzame ideeën en initiatieven een podium krijgen in pol
 itiek Den Haag. Het kabinet neemt op deze dag de Duurzame Dinsdag-koffer i
 n ontvangst met honderden duurzame ideeën en initiatieven uit alle hoeken
  van onze samenleving. De meest duurzame\, innoverende en onderscheidende 
 ideeën en initiatieven maken kans op prijzen en de mogelijkheid om het id
 ee of initiatief een extra impuls te geven.\n\nTijdens deze bijzondere dag
  staan er drie dingen centraal:\n\n 	Het overhandigen van de Duurzame Dins
 dag-koffer aan het kabinet en uitreiking van de prijzen\n 	De uitreiking v
 an het duurzame lintje\n 	De duurzame troonrede\n
ATTACH;FMTTYPE=image/jpeg:https://www.duurzaam-ondernemen.nl/wordpress/wp-
 content/uploads/2022/04/duurzamedinsdag_koffert.jpg
CATEGORIES:Duurzaamheidsprofessionals
LOCATION:Nieuwspoort\, Bezuidenhoutseweg 67\, Den Haag\, 2594 AC\, Nederlan
 d
GEO:52.083056;4.326265
X-APPLE-STRUCTURED-LOCATION;VALUE=URI;X-ADDRESS=Bezuidenhoutseweg 67\, Den 
 Haag\, 2594 AC\, Nederland;X-APPLE-RADIUS=100;X-TITLE=Nieuwspoort:geo:52.0
 83056,4.326265
END:VEVENT
BEGIN:VTIMEZONE
TZID:Europe/Amsterdam
X-LIC-LOCATION:Europe/Amsterdam
BEGIN:DAYLIGHT
DTSTART:20260329T030000
TZOFFSETFROM:+0100
TZOFFSETTO:+0200
TZNAME:CEST
END:DAYLIGHT
END:VTIMEZONE
END:VCALENDAR