BEGIN:VCALENDAR
VERSION:2.0
PRODID:-//wp-events-plugin.com//7.2.3.1//EN
TZID:Europe/Amsterdam
X-WR-TIMEZONE:Europe/Amsterdam
BEGIN:VEVENT
UID:1308@duurzaam-ondernemen.nl
DTSTART;TZID=Europe/Amsterdam:20240903T130000
DTEND;TZID=Europe/Amsterdam:20240903T180000
DTSTAMP:20240830T065621Z
URL:https://www.duurzaam-ondernemen.nl/events/duurzame-dinsdag-2024/
SUMMARY:Duurzame Dinsdag 2024
DESCRIPTION:Dinsdag 3 september is het Duurzame Dinsdag\, de Prinsjesdag v
 an de duurzaamheid. Vernieuwende\, duurzame ideeën en initiatieven uit
  de samenleving worden op deze dag onder de aandacht gebracht van politiek
  Den Haag. Geïnspireerd op Prinsjesdag\, de dag waarop de regering de pla
 nnen voor het komende jaar presenteert\, wordt ook op Duurzame Dinsdag een
  koffer met daarin de beste duurzame plannen en initiatieven overhandigd a
 an het kabinet.\n\nProgramma\n09:30 - 10:00 uur: Inloop gasten met koffie/
 thee en koekje\n10:00 - 10:15 uur: Duurzame Troonrede door Kees Klomp\n10:
 15 - 10:20 uur: Singer &amp\; Songwriter Marloes Arkesteijn \n10:15 - 11:
 00 uur: Video trendrapport + panelgesprek over trendrapport met o.a. Janne
 kee op de Haar (Fix brigade)\, Rinske van Noortwijk (Greenwish)\, Thijs va
 n Mierlo (LSA Bewoners)\, Marc van Gemert (Gemeente Amsterdam)\, Jeroen de
 n Uijl (Constitutie van de Commons)\, Kees Vendrik (Nationaal Klimaat Plat
 form)\n11:00 - 11:05 uur: Uitreiking eerste lintje aan Ad Vlems\n11:05 - 1
 1:30 uur: Pitches genomineerden\n11:30 - 12:10 uur: Lunchpauze\n12:10 - 12
 :15 uur: Uitreiking tweede lintje aan Raki Ap\n12:15 - 12:55 uur: Debat Tw
 eede Kamerleden \n12:55 - 13:00 uur: Uitreiking derde lintje aan Lara Wol
 ters\n13:00 - 13:15 uur:  Overhandiging koffer Duurzame Dinsdag van ex-
 minister Klimaat Jetten aan Staatssecretaris Jansen\n13:15 - 13:30 uur: Be
 kendmaking winnaars\n13:30 - 14:30 uur: Netwerkborrel\nDuurzame Dinsdag 
 prijzen\nUit de honderden duurzame initiatieven die het afgelopen jaar zij
 n ingediend\, heeft onze jury er zeven geselecteerd die kans maken op een 
 van de Duurzame Dinsdag prijzen. Deze initiatieven krijgen op 3 september
  de gelegenheid om zich te presenteren aan de jury en het publiek in Nieuw
 spoort. Uiteindelijk zullen er drie prijzen van € 10.000 en een publieks
 prijs worden uitgereikt\, waarmee we hopen dat de winnende initiatieven zi
 ch verder kunnen ontwikkelen. De genomineerden zijn hier terug te vinden.\
 nTroonrede en Duurzame Lintjes\nOp Duurzame Dinsdag zetten we mensen in 
 het zonnetje die zich inzetten voor een mooiere en duurzame samenleving. N
 ederland is het enige land ter wereld dat een onderscheiding zoals het Duu
 rzame Lintje kent. En in tegenstelling tot koninklijke onderscheidingen\, 
 waarvan er elk jaar circa 6000 worden toegekend\, is er jaarlijks slechts 
 een handjevol Duurzame Lintjes.\n\nEerder kregen onder andere Paul Polman\
 , Feike Sijbesma\, Wubbo Ockels\, Marjan Minnesma\, Jessica den Outer\, Ru
 ud Koornstra\, Folkert van der Molen\, Greta Thunberg\, Elisah Pals\, Bibi
  Mantel en Frans Timmermans  een Duurzaam Lintje opgespeld.\n\nDit jaar o
 ntvangen Ad Vlems\, Raki Ap en Lara Wolters een onderscheiding voor hun pr
 achtige werk. Lees hier meer.\n\nDe Duurzame Troonrede wordt dit jaar gesc
 hreven en uitgesproken door Kees Klomp.\nOrganisatie\nDuurzame Dinsdag wo
 rdt mede mogelijk gemaakt door het Programma Duurzaam Initiatief van het M
 inisterie van Infrastructuur en Waterstaat en Jong Leren Eten van het Mini
 sterie van Landbouw\, Natuur en Voedselkwaliteit.\n\nMeer informatie volgt
ATTACH;FMTTYPE=image/jpeg:https://www.duurzaam-ondernemen.nl/wordpress/wp-
 content/uploads/2024/04/dd2024.png
CATEGORIES:Duurzaamheidsprofessionals
LOCATION:\, \, Nederland
X-APPLE-STRUCTURED-LOCATION;VALUE=URI;X-ADDRESS=\, Nederland;X-APPLE-RADIUS
 =100;X-TITLE=:geo:0,0
END:VEVENT
BEGIN:VTIMEZONE
TZID:Europe/Amsterdam
X-LIC-LOCATION:Europe/Amsterdam
BEGIN:DAYLIGHT
DTSTART:20240331T030000
TZOFFSETFROM:+0100
TZOFFSETTO:+0200
TZNAME:CEST
END:DAYLIGHT
END:VTIMEZONE
END:VCALENDAR