BEGIN:VCALENDAR
VERSION:2.0
PRODID:-//wp-events-plugin.com//7.2.3.1//EN
TZID:Europe/Amsterdam
X-WR-TIMEZONE:Europe/Amsterdam
BEGIN:VEVENT
UID:2053@duurzaam-ondernemen.nl
DTSTART;TZID=Europe/Amsterdam:20260423T160000
DTEND;TZID=Europe/Amsterdam:20260423T170000
DTSTAMP:20260401T113031Z
URL:https://www.duurzaam-ondernemen.nl/events/duurzame-dialoog-hoe-krijg-j
 ij-grip-op-je-verpakkingen-en-de-duurzaamheidseisen-ppwr-en-waar-liggen-de
 -kansen-in-implementatie/
SUMMARY:Duurzame Dialoog: 'Hoe krijg jij grip op je verpakkingen en de duur
 zaamheidseisen PPWR\, en waar liggen de kansen in implementatie?'
DESCRIPTION:Verpakkingen zijn overal om ons heen: ze beschermen onze produc
 ten\, ondersteunen de logistieke keten en bepalen in veel gevallen zelfs d
 e ervaring van de gebruiker. Precies omdat verpakkingen zo’n vanzelfspre
 kend onderdeel vormen van onze economie\, spelen ze een sleutelfactor in d
 e transitie naar een circulaire en toekomstbestendige bedrijfsvoering. Met
  de komst van de Europese Packaging and Packaging Waste Regulation (PPWR)
  breekt een nieuwe fase aan waarin bedrijven niet alleen moeten voldoen a
 an aangescherpte eisen\, maar ook kansen krijgen om hun verpakkingsstrateg
 ie te vernieuwen.\n\nIn de volgende Duurzame Dialoog van 2BHonest gaan we 
 dieper in op deze verordening voor verpakkingen: Hoe krijg jij grip op je 
 verpakkingen en de duurzaamheidseisen\, en waar liggen de kansen in implem
 entatie?\n\nWij gaan in gesprek met experts over de inhoud van de PPWR en 
 de uitdagingen en kansen bij de implementatie.\n\nAanmelden
ATTACH;FMTTYPE=image/jpeg:https://www.duurzaam-ondernemen.nl/wordpress/wp-
 content/uploads/2026/04/unnamed-60.png
CATEGORIES:Circulaire economie,Verslaggeving &amp; Transparantie
LOCATION:Online webinar\,  \,  \, Nederland
GEO:52.132633;5.291266
X-APPLE-STRUCTURED-LOCATION;VALUE=URI;X-ADDRESS= \,  \, Nederland;X-APPLE-R
 ADIUS=100;X-TITLE=Online webinar:geo:52.132633,5.291266
END:VEVENT
BEGIN:VTIMEZONE
TZID:Europe/Amsterdam
X-LIC-LOCATION:Europe/Amsterdam
BEGIN:DAYLIGHT
DTSTART:20260329T030000
TZOFFSETFROM:+0100
TZOFFSETTO:+0200
TZNAME:CEST
END:DAYLIGHT
END:VTIMEZONE
END:VCALENDAR