BEGIN:VCALENDAR
VERSION:2.0
PRODID:-//wp-events-plugin.com//7.2.3.1//EN
TZID:Europe/Amsterdam
X-WR-TIMEZONE:Europe/Amsterdam
BEGIN:VEVENT
UID:2030@duurzaam-ondernemen.nl
DTSTART;TZID=Europe/Amsterdam:20260608T090000
DTEND;TZID=Europe/Amsterdam:20260608T160000
DTSTAMP:20260313T132025Z
URL:https://www.duurzaam-ondernemen.nl/events/duurzame-co-working-space-47
 /
SUMMARY:Duurzame co-working space
DESCRIPTION:MyWheels\, Mijndomein\, Lightyear en nog zo’n vijftien andere
  bedrijven vormen samen The Sharing Group. Gezamenlijk uitgangspunt: econo
 mische waarde plus positieve impact.\nZoals: lokaal energie opwekken en va
 stleggen in bi-directioneel laadbare deelauto’s. Of Europese ict-oplossi
 ngen\, volledig los van ‘big tech’.\n\nAlle klanten en medewerkers zij
 n ook aandeelhouder van The Sharing Group. Er werken 250 mensen. De omzet 
 nadert de honderd miljoen euro. De cultuur is zeer ondernemend. De groep i
 s ‘impact maken' gewoon gaan doen.\n\nInmiddels zitten ze in een nieuwe 
 fase van professionalisering. Het is tijd om impact (beter) meetbaar en st
 uurbaar te maken. Maar hoe ontwikkel je beleid voor de hele groep\, zonder
  afbreuk te doen aan de ‘entrepreneurial spirit’?\n\nDat is een vraag 
 die zeker ook speelt voor hun impactmanager Nienke Keen. Zij is onze host 
 tijdens Duurzame Co-Working Space. Ze werkt aan het opzetten van een Susta
 inability &amp\; Impact Management Systeem. ‘Een zoektocht naar een aanp
 ak die recht doet aan de ondernemende cultuur van de organisatie\, maar te
 gelijkertijd helpt om impact beter te meten\, te sturen en te versnellen
 ’\, benadrukt ze. ‘Input\, tips en praktijkvoorbeelden van mede-duurza
 amheids-professionals zijn meer dan welkom.’\n\nDit sluit goed aan bij d
 e traditie van Duurzame Co-Working Space\, waar we ervaringen delen\, vrag
 en stellen en van elkaar leren. Tussen 11 en 12 uur is het plenaire gedeel
 te met Nienke Keen. Aansluitend wordt een lunch aangeboden.\n\nThe Sharing
  Group is gevestigd in het karaktervolle gebouw Zandkasteel\, op 5 minuten
  lopen van station Amsterdam Bijlmer Arena\, met directe treinen naar de v
 ier grote steden\, plus div. lokaal vervoer. Nadere informatie over route 
 en parkeren: https://info.thesharinggroup.com/route-en-parkeren\n\nDe hui
 sregels van Duurzame Co-Working Space zijn\, zoals altijd:\n• uitsluiten
 d voor professionals in duurzaamheid (en zij die dat serieus willen worden
 )\n• beperkt aantal plaatsen\n• inschrijven vooraf is verplicht\n\nJe 
 kunt je aanmelden via onderstaand formulier.\n\n\n\nAanmeldingsformulier\n
 [gravityform id="79" name="Aanmelding co-working space" title="false" desc
 ription="false" ajax="true" field_values='datum_coworking=06/08/2026']\n\n
 &nbsp\;
ATTACH;FMTTYPE=image/jpeg:https://www.duurzaam-ondernemen.nl/wordpress/wp-
 content/uploads/2022/06/Duurzame-Co-Working-Space.png
CATEGORIES:Duurzame Co-Working Space
LOCATION:The Sharing Group in Zandkasteel Amsterdam\,  Bijlmerplein 888\, A
 msterdam\, 1102 MG\, Nederland
GEO:52.312899;4.951661
X-APPLE-STRUCTURED-LOCATION;VALUE=URI;X-ADDRESS= Bijlmerplein 888\, Amsterd
 am\, 1102 MG\, Nederland;X-APPLE-RADIUS=100;X-TITLE=The Sharing Group in Z
 andkasteel Amsterdam:geo:52.312899,4.951661
END:VEVENT
BEGIN:VTIMEZONE
TZID:Europe/Amsterdam
X-LIC-LOCATION:Europe/Amsterdam
BEGIN:DAYLIGHT
DTSTART:20260329T030000
TZOFFSETFROM:+0100
TZOFFSETTO:+0200
TZNAME:CEST
END:DAYLIGHT
END:VTIMEZONE
END:VCALENDAR