BEGIN:VCALENDAR
VERSION:2.0
PRODID:-//wp-events-plugin.com//7.2.3.1//EN
TZID:Europe/Amsterdam
X-WR-TIMEZONE:Europe/Amsterdam
BEGIN:VEVENT
UID:1894@duurzaam-ondernemen.nl
DTSTART;TZID=Europe/Amsterdam:20260122T090000
DTEND;TZID=Europe/Amsterdam:20260122T160000
DTSTAMP:20251112T195653Z
URL:https://www.duurzaam-ondernemen.nl/events/duurzame-co-working-space-45
 /
SUMMARY:Duurzame co-working space
DESCRIPTION:In BlueCity zijn duurzame bedrijven gevestigd met uiteenlopende
  specialismen als: restplastic\, fruit\, 3D-printen\, bosboerderijen\, des
 ign\, of paddestoelen. Er worden zalen verhuurd en er zijn co-working spac
 es.\n\nSpeciaal op 22 januari: Studenten van de Hogeschool Rotterdam komen
  opdrachten presenteren die ze hebben uitgevoerd voor uiteenlopende bedrij
 ven en instellingen. De meeste opdrachtgevers zullen hierbij aanwezig zijn
 . Uiteraard draaien die projecten om circulariteit en duurzaamheid\, zoals
  alles in BlueCity.\n\nOptie\, speciaal voor deelnemers aan Duurzame Co-Wo
 rking Space: die opdrachten jureren. Dit is uiteraard alleen voor wie hier
  zin in heeft\, dus zeker geen verplicht onderdeel. Jureren duurt waarschi
 jnlijk een uur (details volgen later).\n\nDe huisregels van Duurzame Co-Wo
 rking Space zijn:\n\n 	uitsluitend voor professionals in duurzaamheid (en 
 zij die dat serieus willen worden)\n\n 	beperkt aantal plaatsen\n\n 	insch
 rijven vooraf is verplicht\n\nJe kunt je aanmelden via onderstaand formuli
 er.\n\n\n\nAanmeldingsformulier\n[gravityform id="75" name="Aanmelding co-
 working space" title="false" description="false" ajax="true" field_values=
 'datum_coworking=01/22/2026']\n\n&nbsp\;
ATTACH;FMTTYPE=image/jpeg:https://www.duurzaam-ondernemen.nl/wordpress/wp-
 content/uploads/2022/06/Duurzame-Co-Working-Space.png
CATEGORIES:Duurzame Co-Working Space
LOCATION:Blue City\, Maasboulevard 100\, Rotterdam\, 3063 NS\, Nederland
GEO:51.919854;4.500908
X-APPLE-STRUCTURED-LOCATION;VALUE=URI;X-ADDRESS=Maasboulevard 100\, Rotterd
 am\, 3063 NS\, Nederland;X-APPLE-RADIUS=100;X-TITLE=Blue City:geo:51.91985
 4,4.500908
END:VEVENT
BEGIN:VTIMEZONE
TZID:Europe/Amsterdam
X-LIC-LOCATION:Europe/Amsterdam
BEGIN:STANDARD
DTSTART:20251026T020000
TZOFFSETFROM:+0200
TZOFFSETTO:+0100
TZNAME:CET
END:STANDARD
END:VTIMEZONE
END:VCALENDAR