BEGIN:VCALENDAR
VERSION:2.0
PRODID:-//wp-events-plugin.com//7.2.3.1//EN
TZID:Europe/Amsterdam
X-WR-TIMEZONE:Europe/Amsterdam
BEGIN:VEVENT
UID:1204@duurzaam-ondernemen.nl
DTSTART;TZID=Europe/Amsterdam:20240306T090000
DTEND;TZID=Europe/Amsterdam:20240306T170000
DTSTAMP:20240112T152019Z
URL:https://www.duurzaam-ondernemen.nl/events/duurzame-co-working-space-36
 /
SUMMARY:Duurzame co-working space
DESCRIPTION:Deze editie van de Duurzame co-working space vindt plaatst bij 
 Verden in Amsterdam.\n\nVerden is een projectbemiddelingsbureau gericht op
  vier terreinen:\n\n 	duurzaamheid\n 	maatschappelijk vastgoed\n 	sociaal 
 domein\n 	woningcorporaties\n\nKernactiviteit is: koppelen van intrinsiek 
 gemotiveerde professionals aan bevlogen opdrachtgevers. Het bureau opereer
 t vanuit Amsterdam en Rotterdam.\n\nBen je werkzaam in duurzaamheid (SDG\,
  circulair\, MVO\, etc.) dan kun je in maart bij hen op bezoek\, dankzij D
 uurzame Co-Working Space.\nLaat je inspireren door Verden en door elkaar.\
 n\nDeur open 9-17 u\nPresentatie over Verden: rond 11 u.\nLunch verzorgd d
 oor Verden.\n\n 	 Mocht je op deze dag een belangrijke andere afspraak he
 bben\, dan is het geen punt als je later komt of eerder vertrekt.\n 	Indie
 n je geen gebruik maakt van de lunch\, laat dit dan s.v.p. vooraf weten\, 
 zodat we geen voedsel hoeven te verspillen.\n 	Aan deelname zijn geen kost
 en verbonden.\n\nJe kunt je aanmelden via onderstaand formulier.\n\n\n\nAa
 nmeldingsformulier\n[gravityform id="63" name="Aanmelding co-working space
 " title="false" description="false" ajax="true" field_values='datum_cowork
 ing=03/06/2024']\n\n&nbsp\;
ATTACH;FMTTYPE=image/jpeg:https://www.duurzaam-ondernemen.nl/wordpress/wp-
 content/uploads/2022/06/Duurzame-Co-Working-Space.png
CATEGORIES:Duurzame Co-Working Space
LOCATION:Verden\, Joan Muyskenweg 22\, Amsterdam\, Nederland
GEO:52.332961;4.914868
X-APPLE-STRUCTURED-LOCATION;VALUE=URI;X-ADDRESS=Joan Muyskenweg 22\, Amster
 dam\, Nederland;X-APPLE-RADIUS=100;X-TITLE=Verden:geo:52.332961,4.914868
END:VEVENT
BEGIN:VTIMEZONE
TZID:Europe/Amsterdam
X-LIC-LOCATION:Europe/Amsterdam
BEGIN:STANDARD
DTSTART:20231029T020000
TZOFFSETFROM:+0200
TZOFFSETTO:+0100
TZNAME:CET
END:STANDARD
END:VTIMEZONE
END:VCALENDAR