BEGIN:VCALENDAR
VERSION:2.0
PRODID:-//wp-events-plugin.com//7.2.3.1//EN
TZID:Europe/Amsterdam
X-WR-TIMEZONE:Europe/Amsterdam
BEGIN:VEVENT
UID:1664@duurzaam-ondernemen.nl
DTSTART;TZID=Europe/Amsterdam:20250605T090000
DTEND;TZID=Europe/Amsterdam:20250605T160000
DTSTAMP:20250319T073824Z
URL:https://www.duurzaam-ondernemen.nl/events/duurzame-co-working-space-2/
SUMMARY:Duurzame co-working space
DESCRIPTION:TOSCA\, voluit Tribe Of Sustainability Change Agents\, behoeft 
 voor veel mensen in 'duurzaam Nederland' geen nadere introductie meer. Ron
 dom de partners Nicolette Loonen en Ulrike de Jong werken inmiddels zes as
 sociate partners en twee junior consultants.\n\nMet focus op:\n• strateg
 ie &amp\; waardecreatie\n• implementatie &amp\; engagement\n• rapporta
 ge &amp\; CSRD\n\nBij elke sessie van Duurzame Co-Working Space geldt:\n
 • uitsluitend voor professionals in duurzaamheid (en zij die dat serieus
  willen worden)\n• aantal plaatsen is beperkt\n• inschrijven vooraf is
  verplicht\n\nJe kunt je aanmelden via onderstaand formulier.\n\n\n\nAanme
 ldingsformulier\n[gravityform id="70" name="Aanmelding co-working space" t
 itle="false" description="false" ajax="true" field_values='datum_coworking
 =06/05/2025']\n\n&nbsp\;
ATTACH;FMTTYPE=image/jpeg:https://www.duurzaam-ondernemen.nl/wordpress/wp-
 content/uploads/2022/06/Duurzame-Co-Working-Space.png
CATEGORIES:Duurzame Co-Working Space
LOCATION:De Stookplaats - Kantoor TOSCA\, Mussenstraat 9\, Hilversum\, 1223
  RB\, Nederland
GEO:52.220964;5.196864
X-APPLE-STRUCTURED-LOCATION;VALUE=URI;X-ADDRESS=Mussenstraat 9\, Hilversum\
 , 1223 RB\, Nederland;X-APPLE-RADIUS=100;X-TITLE=De Stookplaats - Kantoor 
 TOSCA:geo:52.220964,5.196864
END:VEVENT
BEGIN:VTIMEZONE
TZID:Europe/Amsterdam
X-LIC-LOCATION:Europe/Amsterdam
BEGIN:DAYLIGHT
DTSTART:20250330T030000
TZOFFSETFROM:+0100
TZOFFSETTO:+0200
TZNAME:CEST
END:DAYLIGHT
END:VTIMEZONE
END:VCALENDAR