BEGIN:VCALENDAR
VERSION:2.0
PRODID:-//wp-events-plugin.com//7.2.3.1//EN
TZID:Europe/Amsterdam
X-WR-TIMEZONE:Europe/Amsterdam
BEGIN:VEVENT
UID:1875@duurzaam-ondernemen.nl
DTSTART;TZID=Europe/Amsterdam:20251028T100000
DTEND;TZID=Europe/Amsterdam:20251028T114500
DTSTAMP:20251021T132953Z
URL:https://www.duurzaam-ondernemen.nl/events/duurzaamheidswetgeving-in-20
 26-dit-moet-je-weten/
SUMMARY:Duurzaamheidswetgeving in 2026 - dit moet je weten
DESCRIPTION:Wat moet je nú regelen om klaar te zijn voor EUDR\, Forced Lab
 our\, CSRD/VSME\, PPWR en CBAM? Tijdens de International Week of Integrity
  organiseert evofenedex op 28 oktober een online event  over de duurzaamh
 eidswetgeving die op bedrijven afkomt.\n\nWe nemen het laatste nieuws uit 
 Brussel mee\, maar gaan vooral in op de praktische kant:\n\n 	Wat verander
 t er?\n 	Wat moet je doen?\n 	Hoe speel je slim in op de samenhang tussen 
 de verschillende wetten?\n\nDe wetgeving is volop in ontwikkeling. Door ve
 randerend beleid en politieke discussies is er op sommige punten nog onzek
 erheid. Juist daarom is het belangrijk om nú te weten waar je als bedrijf
  op kunt anticiperen.\n\nBedrijven die hun ketens goed kennen en beschikke
 n over actuele ketendata zijn wendbaarder en weerbaarder in een snel veran
 derende wereld. Ze kunnen risico’s beter beheersen en sneller inspelen o
 p nieuwe eisen en kansen.\n\nAls evofenedex helpen we je stappen te zetten
  richting compliancy én duurzame groei van handel.\n\nVoertaal: Nederland
 s\n\nDoelgroep: Aanmelden is gratis en exclusief voor handels- en producti
 ebedrijven en kan via Duurzaamheidswetgeving in 2026 - dit moet je weten |
  evofenedex
ATTACH;FMTTYPE=image/jpeg:https://www.duurzaam-ondernemen.nl/wordpress/wp-
 content/uploads/2025/10/Webinar_wetgevingshuis_web_2080x868.jpg
CATEGORIES:Duurzaamheidsprofessionals,Verslaggeving &amp; Transparantie
LOCATION:Online webinar\,  \,  \, Nederland
GEO:52.132633;5.291266
X-APPLE-STRUCTURED-LOCATION;VALUE=URI;X-ADDRESS= \,  \, Nederland;X-APPLE-R
 ADIUS=100;X-TITLE=Online webinar:geo:52.132633,5.291266
END:VEVENT
BEGIN:VTIMEZONE
TZID:Europe/Amsterdam
X-LIC-LOCATION:Europe/Amsterdam
BEGIN:STANDARD
DTSTART:20251026T020000
TZOFFSETFROM:+0200
TZOFFSETTO:+0100
TZNAME:CET
END:STANDARD
END:VTIMEZONE
END:VCALENDAR