BEGIN:VCALENDAR
VERSION:2.0
PRODID:-//wp-events-plugin.com//7.2.3.1//EN
TZID:Europe/Amsterdam
X-WR-TIMEZONE:Europe/Amsterdam
BEGIN:VEVENT
UID:1673@duurzaam-ondernemen.nl
DTSTART;TZID=Europe/Amsterdam:20250408T093000
DTEND;TZID=Europe/Amsterdam:20250409T170000
DTSTAMP:20250325T074314Z
URL:https://www.duurzaam-ondernemen.nl/events/drive-forward-2025/
SUMMARY:Drive Forward 2025
DESCRIPTION:Drive Forward\, formerly known as Automotive Week\, is a (inter
 )national multi-day conference focused on innovations in automotive mobili
 ty.\n\nTaking place from April 8th to 9th\, 2025\, at the Automotive Cam
 pus Helmond in the heart of Brainport Eindhoven\, this biennial event sh
 owcases cutting-edge advancements that ensure Europe’s leadership in the
  automotive industry.\n\nThis conference aims to bring together European v
 isionaries\, industry leaders\, policymakers\, and researchers to discuss
  and showcase advancements in these critical areas\, fostering collaborati
 on and innovation and strengthening Europe's competitive position in the a
 utomotive industry.\n\n\n\n\nFocus areas\nDrive Forward 2025 centers on tw
 o transformative themes:\n\n 	Decarbonization: \nExploring electrificatio
 n\, hydrogen solutions\, shared mobility\, and renewable energy.\n 	Digita
 lization:\nDiving into connected vehicles\, autonomous driving\, ICT integ
 ration\, digital services and policy.\n\nKey topics include:\n\n 	Digitali
 zation &amp\; Autonomous Driving\n 	Electrification &amp\; Hydrogen\n 	Cha
 rging Infrastructure\n 	Logistics\, ICT\, and Applications\n 	Policies and
  EU regulations\n\n\nOp 9 april 2025 wijdt Drive Forward 2025 een hele dag
  aan decarbonisatie\, met een specifieke focus op de rol van batterijen in
  het vormgeven van Europa’s schone energietoekomst. Terwijl de race naar
  duurzame mobiliteit versnelt\, staat Europa voor de uitdaging om zijn pos
 itie in de wereldwijde batterijwaardeketen te verzekeren. Industrie-expert
 s\, innovators en beleidsmakers komen samen op de Automotive Campus in Hel
 mond om de nieuwste ontwikkelingen te bespreken\, belangrijke uitdagingen 
 aan te pakken en beleidsmaatregelen te verkennen die de toekomst van batte
 rijtechnologie en elektrificatie zullen bepalen.\n\n\n\n\nMore information
ATTACH;FMTTYPE=image/jpeg:https://www.duurzaam-ondernemen.nl/wordpress/wp-
 content/uploads/2025/03/DRIVE-FORWARD-2025-530-x-300-px-1000-x-667-px.jpg
CATEGORIES:Mobiliteit en Transport/Logistiek
LOCATION:Automotive Campus Helmond\, Automotive Campus 30\, Helmond\, 5708 
 HN\, Nederland
GEO:51.47482;5.621914
X-APPLE-STRUCTURED-LOCATION;VALUE=URI;X-ADDRESS=Automotive Campus 30\, Helm
 ond\, 5708 HN\, Nederland;X-APPLE-RADIUS=100;X-TITLE=Automotive Campus Hel
 mond:geo:51.47482,5.621914
END:VEVENT
BEGIN:VTIMEZONE
TZID:Europe/Amsterdam
X-LIC-LOCATION:Europe/Amsterdam
BEGIN:DAYLIGHT
DTSTART:20250330T030000
TZOFFSETFROM:+0100
TZOFFSETTO:+0200
TZNAME:CEST
END:DAYLIGHT
END:VTIMEZONE
END:VCALENDAR