BEGIN:VCALENDAR
VERSION:2.0
PRODID:-//wp-events-plugin.com//7.2.3.1//EN
TZID:Europe/Amsterdam
X-WR-TIMEZONE:Europe/Amsterdam
BEGIN:VEVENT
UID:1303@duurzaam-ondernemen.nl
DTSTART;TZID=Europe/Amsterdam:20240409T103000
DTEND;TZID=Europe/Amsterdam:20240409T113000
DTSTAMP:20240402T103408Z
URL:https://www.duurzaam-ondernemen.nl/events/deep-dive-over-science-based
 -targets/
SUMMARY:Deep Dive over Science-Based targets
DESCRIPTION:Verminder de CO2-voetafdruk van je bedrijf door wetenschappelij
 k onderbouwde doelen te stellen.\n\nBedrijven die op wetenschap gebaseerde
  emissiereductiedoelen stellen\, dragen bij aan het verminderen van hun CO
 2-voetafdruk en investeren in het langetermijnperspectief van onze samenle
 ving en het milieu. Het Science Based Targets initiative (SBTi) heeft ee
 n standaard gecreëerd voor het stellen van emissiereductiedoelen in lijn 
 met de doelen van het Klimaatakkoord van Parijs.\n\nDe Deep Dive van Clima
 tePartner over Science-Based targets (SBTs) zal je begrip van SBTs verbete
 ren\, hoe je ze in het bedrijf kunt implementeren en hoe ClimatePartner j
 ullie daarbij kan ondersteunen.\n\nOnze experts Daan Meily en Anna Schm
 itt laten je zien hoe je geloofwaardige\, wetenschappelijk onderbouwde em
 issiereductiedoelen kunt stellen om je bedrijf naar een toekomst met minde
 r uitstoot te leiden.\n\n➡️ Je kunt je hier gratis registreren: https
 ://lnkd.in/d4CX3y9h
ATTACH;FMTTYPE=image/jpeg:https://www.duurzaam-ondernemen.nl/wordpress/wp-
 content/uploads/2024/04/caa_dive.png
CATEGORIES:Klimaat en Energie
LOCATION:Online webinar\,  \,  \, Nederland
GEO:52.132633;5.291266
X-APPLE-STRUCTURED-LOCATION;VALUE=URI;X-ADDRESS= \,  \, Nederland;X-APPLE-R
 ADIUS=100;X-TITLE=Online webinar:geo:52.132633,5.291266
END:VEVENT
BEGIN:VTIMEZONE
TZID:Europe/Amsterdam
X-LIC-LOCATION:Europe/Amsterdam
BEGIN:DAYLIGHT
DTSTART:20240331T030000
TZOFFSETFROM:+0100
TZOFFSETTO:+0200
TZNAME:CEST
END:DAYLIGHT
END:VTIMEZONE
END:VCALENDAR