BEGIN:VCALENDAR
VERSION:2.0
PRODID:-//wp-events-plugin.com//7.2.3.1//EN
TZID:Europe/Amsterdam
X-WR-TIMEZONE:Europe/Amsterdam
BEGIN:VEVENT
UID:1199@duurzaam-ondernemen.nl
DTSTART;TZID=Europe/Amsterdam:20240607T130000
DTEND;TZID=Europe/Amsterdam:20240607T180000
DTSTAMP:20240418T121351Z
URL:https://www.duurzaam-ondernemen.nl/events/dag-voor-doendenkers/
SUMMARY:Dag voor Doendenkers
DESCRIPTION:Op vrijdag 7 juni 2024 tovert MVO Nederland het Beatrix Theater
  in Utrecht weer om tot hét grootste zakelijke duurzaamheidsfestival van 
 het jaar. Dé plek om ondernemers te ontmoeten die net als jij willen bijd
 ragen aan een duurzame economie.\n\nLaat je verrassen en inspireren door t
 oonaangevende sprekers en keynotes\, doe mee aan workshops en leer meer ti
 jdens interactieve sessies die je helpen om jouw duurzame ambities waar te
  maken.\n\nBen je partner van MVO Nederland? Dan krijg je een gratis ticke
 t t.w.v. €299\,-. Ben je nog geen partner? Sluit je dan snel aan en prof
 iteer van alle voordelen.\n\nMeer informatie/aanmelden
ATTACH;FMTTYPE=image/jpeg:https://www.duurzaam-ondernemen.nl/wordpress/wp-
 content/uploads/2024/01/mvonl2024.jpeg
CATEGORIES:Duurzaamheidsprofessionals
LOCATION:Beatrix Theater (Jaarbeurs)\, Jaarbeursplein 6A\, Utrecht\, 3521 A
 L\, Nederland
GEO:52.087941;5.106728
X-APPLE-STRUCTURED-LOCATION;VALUE=URI;X-ADDRESS=Jaarbeursplein 6A\, Utrecht
 \, 3521 AL\, Nederland;X-APPLE-RADIUS=100;X-TITLE=Beatrix Theater (Jaarbeu
 rs):geo:52.087941,5.106728
END:VEVENT
BEGIN:VTIMEZONE
TZID:Europe/Amsterdam
X-LIC-LOCATION:Europe/Amsterdam
BEGIN:DAYLIGHT
DTSTART:20240331T030000
TZOFFSETFROM:+0100
TZOFFSETTO:+0200
TZNAME:CEST
END:DAYLIGHT
END:VTIMEZONE
END:VCALENDAR