BEGIN:VCALENDAR
VERSION:2.0
PRODID:-//wp-events-plugin.com//7.2.3.1//EN
TZID:Europe/Amsterdam
X-WR-TIMEZONE:Europe/Amsterdam
BEGIN:VEVENT
UID:2047@duurzaam-ondernemen.nl
DTSTART;TZID=Europe/Amsterdam:20260620T090000
DTEND;TZID=Europe/Amsterdam:20260620T170000
DTSTAMP:20260330T111330Z
URL:https://www.duurzaam-ondernemen.nl/events/dag-van-de-houtbouw-2026/
SUMMARY:Dag van de HOUTbouw 2026
DESCRIPTION:Op zaterdag 20 juni 2026 staat Nederland weer in het teken van 
 houtbouw. Dit jaar zetten we houtbouw en andere vormen van biobased bouwen
  in de volle breedte op de kaart: zowel woningbouwprojecten alsook infra-\
 , utiliteitsbouw en productielocaties zijn van harte welkom. Zelfs lopende
  projecten waar bezoekers kunnen zien hoe biobased renoveren en verduurzam
 en in de praktijk werkt\, kunnen worden aangemeld.\nHout is de toekomst!\n
 Met de Dag van de HOUTbouw en de bijbehorende publiciteit willen we de tra
 nsitie naar houtbouw en andere vormen van biobased bouwen versnellen en op
 drachtgevers overtuigen van de vele voordelen van houtbouw. Want houtbouw 
 is klaar voor opschaling. Door als sector de krachten te bundelen kan het 
 grotere publiek zelf ervaren hoe goed bouwen met hout eruit ziet\, voelt e
 n ruikt. Door mee te doen\, kunnen houtbouwers juist tijdens de bouwfase l
 aten zien wat er allemaal al is en kan. Meer informatie is op www.dagvande
 houtbouw.nl te lezen.\nFunding partners\nDe Dag van de HOUTbouw wordt mede
  mogelijk gemaakt door Building Balance\, Provincie Noord-Brabant (als ond
 erdeel stimulans circulaire economie)\, Houtbouw Lente (samenwerking van a
 cht Brabantse woningcorporaties) en FSC® Nederland (als onderdeel van het
  EU Life gesubsidieerde project HOME for the future). Het is mogelijk dat 
 nog meer funding partners aansluiten\, er lopen al gesprekken. Vorig jaar 
 was de allereerste landelijke editie. Verspreid over heel Nederland opend
 en toen 25 houtbouwers hun bouw- of productielocatie voor publiek (5000+ b
 ezoekers).\n\nAanmelden / meer informatie
ATTACH;FMTTYPE=image/jpeg:https://www.duurzaam-ondernemen.nl/wordpress/wp-
 content/uploads/2026/03/houtbouw_dag.jpg
CATEGORIES:Bouw/Infra &amp; Vastgoed
LOCATION:\, \, Nederland
X-APPLE-STRUCTURED-LOCATION;VALUE=URI;X-ADDRESS=\, Nederland;X-APPLE-RADIUS
 =100;X-TITLE=:geo:0,0
END:VEVENT
BEGIN:VTIMEZONE
TZID:Europe/Amsterdam
X-LIC-LOCATION:Europe/Amsterdam
BEGIN:DAYLIGHT
DTSTART:20260329T030000
TZOFFSETFROM:+0100
TZOFFSETTO:+0200
TZNAME:CEST
END:DAYLIGHT
END:VTIMEZONE
END:VCALENDAR