BEGIN:VCALENDAR
VERSION:2.0
PRODID:-//wp-events-plugin.com//7.2.3.1//EN
TZID:Europe/Amsterdam
X-WR-TIMEZONE:Europe/Amsterdam
BEGIN:VEVENT
UID:1319@duurzaam-ondernemen.nl
DTSTART;TZID=Europe/Amsterdam:20240603T083000
DTEND;TZID=Europe/Amsterdam:20240603T130000
DTSTAMP:20240419T132841Z
URL:https://www.duurzaam-ondernemen.nl/events/cursus-praktisch-aan-de-slag
 -met-de-csrd/
SUMMARY:Cursus 'Praktisch aan de slag met de CSRD'
DESCRIPTION:Waarom deze cursus?\nWelke stappen moeten organisaties concreet
  zetten om te komen tot een compliant verslag? En hoe vlieg je dat dan aan
 ? Dit zijn de vragen waarop Van Oers tijdens deze cursus een antwoord geve
 n. Aan de hand van theorie nemen we u mee naar toepassing in de praktijk. 
 Met heldere stappen\, voorbeelden en adviezen om de eerste stappen te kunn
 en zetten.\n\nVoor wie is deze cursus bedoeld?\nDeze cursus heeft de inten
 tie om verder te gaan dan de introductie “wat is het\, en voor welke ond
 ernemingen geldt het”. Deze cursus is bedoeld voor hen die binnen hun or
 ganisatie daadwerkelijk verantwoordelijk zijn voor het voldoen aan de CSRD
  en op zoek zijn naar handvatten om daar een concrete invulling aan te gev
 en. En hoewel deze richtlijn nog niet alle ondernemingen direct raakt\, is
  de impact ervan op het mkb niet te onderschatten. Daarom zijn ook deze on
 dernemers\, die aan zien komen dat ook zij hier ‘iets mee moeten’\, va
 n harte welkom.\n\nAantal deelnemers\nWij hanteren een groepsgrootte van m
 aximaal 12 personen. Hierdoor kunt u optimaal profiteren van de kennis en 
 ervaring van onze docent(en) en kunt u uw eigen praktijksituatie op een in
 teractieve manier toetsen aan die van uw collegacursisten.\nMeer informati
 e/aanmelden
ATTACH;FMTTYPE=image/jpeg:https://www.duurzaam-ondernemen.nl/wordpress/wp-
 content/uploads/2024/04/CSRD-03-06-2024.png
CATEGORIES:Verslaggeving &amp; Transparantie
LOCATION:Nuwenhuys\, Reeptiend 50\, Breda\, 4836 AV  \, Nederland
GEO:51.550912;4.785703
X-APPLE-STRUCTURED-LOCATION;VALUE=URI;X-ADDRESS=Reeptiend 50\, Breda\, 4836
  AV  \, Nederland;X-APPLE-RADIUS=100;X-TITLE=Nuwenhuys:geo:51.550912,4.785
 703
END:VEVENT
BEGIN:VTIMEZONE
TZID:Europe/Amsterdam
X-LIC-LOCATION:Europe/Amsterdam
BEGIN:DAYLIGHT
DTSTART:20240331T030000
TZOFFSETFROM:+0100
TZOFFSETTO:+0200
TZNAME:CEST
END:DAYLIGHT
END:VTIMEZONE
END:VCALENDAR