BEGIN:VCALENDAR
VERSION:2.0
PRODID:-//wp-events-plugin.com//7.2.3.1//EN
TZID:Europe/Amsterdam
X-WR-TIMEZONE:Europe/Amsterdam
BEGIN:VEVENT
UID:1193@duurzaam-ondernemen.nl
DTSTART;TZID=Europe/Amsterdam:20240205T151500
DTEND;TZID=Europe/Amsterdam:20240205T183000
DTSTAMP:20240110T155850Z
URL:https://www.duurzaam-ondernemen.nl/events/csrd-live-event-how-to-enhan
 ce-your-esg-governance-and-controls-in-getting-ready-for-the-csrd/
SUMMARY:CSRD Live Event: How to enhance your ESG governance and controls in
  getting ready for the CSRD
DESCRIPTION:On Monday\, February 5\, KPMG will host the CSRD Live event: H
 ow to enhance your ESG governance and controls in getting ready for the C
 SRD. During this event\, we will discuss effective ESG Governance and Cont
 rols\, as well as practical learnings from several companies around the gl
 obe.\n\nThis event is aimed to inform Sustainability Managers\, Sustainabi
 lity Reporting Managers\, Reporting Managers\, Financial Controllers\, Man
 agers Financial Accounting &amp\; Reporting\, Compliance managers\, ESG Ma
 nagers\, Sustainability Officers\, Finance Reporting Managers\, and Financ
 e Directors. Please note that the session is most effective with a basic k
 nowledge of the CSRD.\nSubject\nWith the first CSRD reports due in 2025 
 — for companies with year-ending 31 December 2024 — the clock is ticki
 ng. They are gearing up to provide accurate information from different par
 ts of the organization in order to report on their material topics and to 
 live up to the assurance requirements. As companies’ ESG performance com
 es under growing scrutiny\, effective governance and controls are paramoun
 t for an accurate and trustworthy sustainability report. During this event
 \, we will discuss best practices relating to corporate governance and con
 trols frameworks\, in light of the CSRD.\n\nBy the end of this session\, y
 ou will have practical examples on how to enhance your ESG governance and 
 controls in the context of getting ready for the CSRD. We aim to equip yo
 u with sufficient knowledge to take the next steps on your ESG governance 
 and controls journey.\n\nWe will share insights on how companies around th
 e globe are structuring their ESG governance and discuss these topics with
  the audience:\n\n 	Who is responsible for sustainability reporting?\n 	Ho
 w large should the sustainability function be?\n 	Clarity on the definitio
 n of roles and responsibilities\n 	What are trends in ESG incentivization?
 \n 	What is the impact in the internal audit and control environment?\n\nK
 ey takeaways of this event:\n\n 	Embedding ESG in the business: changes in
  the organizational chart\, control framework\, roles and responsibilities
 \n 	Remuneration and incentivization based on ESG performance\n 	What is e
 xpected as an efficient control environment\n\nSpeakers\n\n 	Marco Frikkee
  (Host)\, Partner\, Sustainability Reporting\, KPMG\n 	Emily Condack\, Di
 rector\, ESG Lead – Governance Risk and Compliance Services\, KPMG\n 	Je
 roen Bolt\, Director\, ERM and Internal Controls – Governance Risk and 
 Compliance Services\, KPMG\n\nProgram\n15:15 Check-in\n15:45 Start program
 \n17:30 Start networking drinks\n18:30 End program\n\nMore information/reg
 istration
ATTACH;FMTTYPE=image/jpeg:https://www.duurzaam-ondernemen.nl/wordpress/wp-
 content/uploads/2024/01/live.jpeg
CATEGORIES:Verslaggeving &amp; Transparantie
LOCATION:KPMG Kantoor\, Laan van Langerhuize 1\, Amstelveen\, 1186 DS\, Ned
 erland
GEO:52.295858;4.876736
X-APPLE-STRUCTURED-LOCATION;VALUE=URI;X-ADDRESS=Laan van Langerhuize 1\, Am
 stelveen\, 1186 DS\, Nederland;X-APPLE-RADIUS=100;X-TITLE=KPMG Kantoor:geo
 :52.295858,4.876736
END:VEVENT
BEGIN:VTIMEZONE
TZID:Europe/Amsterdam
X-LIC-LOCATION:Europe/Amsterdam
BEGIN:STANDARD
DTSTART:20231029T020000
TZOFFSETFROM:+0200
TZOFFSETTO:+0100
TZNAME:CET
END:STANDARD
END:VTIMEZONE
END:VCALENDAR