BEGIN:VCALENDAR
VERSION:2.0
PRODID:-//wp-events-plugin.com//7.2.3.1//EN
TZID:Europe/Amsterdam
X-WR-TIMEZONE:Europe/Amsterdam
BEGIN:VEVENT
UID:1195@duurzaam-ondernemen.nl
DTSTART;TZID=Europe/Amsterdam:20240208T090000
DTEND;TZID=Europe/Amsterdam:20240208T170000
DTSTAMP:20240111T101211Z
URL:https://www.duurzaam-ondernemen.nl/events/csrd-in-one-day-nl-talig-5/
SUMMARY:CSRD In One Day (NL-talig)
DESCRIPTION:Over deze cursus\n\nCSRD IN ONE DAY is een dagvullend evenemen
 t waarbij professionals met een achtergrond in financiën\, risico\, rappo
 rtage\, juridisch en duurzaamheid basiskennis krijgen van de Europese stan
 daard voor duurzaamheidsrapportage. CSRD IN ÉÉN DAG bevat videolessen\
 , cursusmateriaal\, cases en boeiende opdrachten. Voorbeelden zijn AkzoNob
 el\, Schneider Electric\, Philips\, ABN AMRO en Tony's Chocolonely.\n\nVoo
 r wie is deze cursus bedoeld?\n\n 	MVO IN ÉÉN DAG is geschikt voor fina
 nciële en controle-experts\, analisten\, auditors\, leidinggevenden\, rap
 portage- en duurzaamheidsexperts en niet-uitvoerende bestuursleden.\n 	Pro
 fessionals die willen starten met MVO-voorbereiding in hun bedrijf en wete
 n wat de eerste stappen moeten zijn.\n 	Professionals die verder willen ga
 an dan rapporteren en leren hoe ze geïntegreerd denken kunnen toepassen o
 p impactmeting en -beheer.\n\nCursusdata en locatie\n\nDeze cursus wordt i
 n verschillende formaten aangeboden. Dit is een maandelijks persoonlijk ed
 ucatie-evenement dat plaatsvindt in het Impact District\, gelegen aan het 
 Haarlemmerplein 2.\n\n\nKomende data (NL-versie):\n\n 	8 februari\n 	1 maa
 rt\n\nFormaat en verdere informatie\n\n\n 	Dit is een persoonlijke live l
 eerervaring die bestaat uit 8 modules.\n 	Het educatie-evenement duurt 1 w
 erkdag\, van 9.00 - 18.00 uur (met koffiepauzes en een lunchpauze).\n 	We 
 faciliteren het netwerken tussen deelnemers aan het einde van het evenemen
 t\n\nDoe mee met dit programma en leer hoe u dat doet\n\n 	Verwerven van d
 e benodigde kennis en vaardigheden om de MVO-voorbereiding in de organisat
 ie te starten.\n 	Identificeer de belangrijkste stappen voor het voldoen a
 an de ESRS-vereisten.\n 	Maak een gap-analyse en stel de doelstellingen va
 st in overeenstemming met de ESRS-vereisten.\n 	Beoordeel de dubbele mater
 ialiteit in overeenstemming met de ESRS-vereisten.\n 	Maak een persoonlijk
  ESRS actieplan om het eerste ESRS project in uw organisatie te starte
 n.\n\nOverzicht modules\n\n 	CSRD ontvouwen\n 	ESRS Projectbeheer\n 	ESRS
  Vereisten\n 	ESRS Materialiteitsbeoordeling\n 	Milieu-ESRS met een die
 pgaande analyse van biodiversiteit en ecosystemen (ESRS E4)\n 	Sociale ESR
 S\, met een diepe duik in werknemers in de waardeketen (ESRS S2)\n 	Actiep
 lan en ESRS gap-analyse\n 	Bestuur ESRS G1 (in eigen tempo op ons educat
 ieve platform)\n 	Gegevensbeheer (in eigen tempo op ons educatieve platfor
 m)\n\nGedurende de dag behandelen we de volledige reikwijdte van algemene 
 (ESRS 1 en 2) en actuele normen - ESRS op milieu-\, sociaal en bestuurlijk
  vlak.\n\nMeer informatie/aanmelden
ATTACH;FMTTYPE=image/jpeg:https://www.duurzaam-ondernemen.nl/wordpress/wp-
 content/uploads/2023/02/oneday.png
CATEGORIES:Verslaggeving &amp; Transparantie
LOCATION:Kantoor Impact Institute\, Van Diemenstraat 292\, Amsterdam\, 1013
  CR \, Nederland
GEO:52.39015;4.887961
X-APPLE-STRUCTURED-LOCATION;VALUE=URI;X-ADDRESS=Van Diemenstraat 292\, Amst
 erdam\, 1013 CR \, Nederland;X-APPLE-RADIUS=100;X-TITLE=Kantoor Impact Ins
 titute:geo:52.39015,4.887961
END:VEVENT
BEGIN:VTIMEZONE
TZID:Europe/Amsterdam
X-LIC-LOCATION:Europe/Amsterdam
BEGIN:STANDARD
DTSTART:20231029T020000
TZOFFSETFROM:+0200
TZOFFSETTO:+0100
TZNAME:CET
END:STANDARD
END:VTIMEZONE
END:VCALENDAR