BEGIN:VCALENDAR
VERSION:2.0
PRODID:-//wp-events-plugin.com//7.2.3.1//EN
TZID:Europe/Amsterdam
X-WR-TIMEZONE:Europe/Amsterdam
BEGIN:VEVENT
UID:1196@duurzaam-ondernemen.nl
DTSTART;TZID=Europe/Amsterdam:20240221T090000
DTEND;TZID=Europe/Amsterdam:20240221T170000
DTSTAMP:20240111T101253Z
URL:https://www.duurzaam-ondernemen.nl/events/csrd-in-one-day-english-edit
 ion-2/
SUMMARY:CSRD In One Day (English edition)
DESCRIPTION:About this course\nCSRD In One Day is a full-day event during 
 which professionals with a background in finance\, risk\, reporting\, lega
 l and sustainability get a basic understanding of the EU’s Corporate Sus
 tainability Reporting Directive. CSRD In One Day includes cases\, course 
 reading material\, CSRD templates\, and assignments.\n\nWho is this course
  for?\n\n 	CSRD In One Day is suitable for finance and control experts\, 
 analysts\, auditors\, executives\, reporting and sustainability experts an
 d non-executive board members. \n 	Professionals who want to start CSRD p
 reparation in their company and know what the first steps should be.\n 	Pr
 ofessionals who want to go beyond reporting and learn how to apply integra
 ted thinking to impact measurement and management. \n\nCourse dates and l
 ocation\nThis course is offered in two formats. This is a monthly in-perso
 n education event\, taking place at the Impact District\, located at Haarl
 emmerplein in Amsterdam. Possible dates (english version):\n\n 	21 Februar
 y\n 	14 March\n\nThe course is also offered as a self-paced E-Learning.\nF
 ormat and further information\n\n\n 	This is an in-person live learning e
 xperience consisting of 7 modules.\n 	The education event takes 1 business
  day\, from 9:00 - 18:00 (with coffee-breaks and a lunch break)\n 	You gai
 n free access to our CSRD Community\n 	We are working on a programme to en
 able certification as a result of following this course. \n\nJoin this pr
 ogram and learn how to\n\n 	Acquire the necessary knowledge and skills to 
 start the CSRD preparation in the organisation.\n 	Identify the key steps 
 for complying with the CSRD requirements.\n 	Make a gap analysis and set t
 he targets in accordance with the CSRD requirements.\n 	Assess double mate
 riality in accordance with the CSRD requirements. \n 	Make a personalised
  CSRD action plan to start the first CSRD project in your organisation.\n\
 nOverview of modules\n\n 	Demystifying CSRD\n 	CSRD gap analysis\n 	Double
  materiality assessment\n 	Biodiversity and ecosystems (ESRS E4): policies
 \, targets and KPIs\n 	Workers in the value chain (ESRS S2): policies\, ta
 rgets and KPIs\n 	Action plan (i. organisation and governance and ii. data
  and assurance)\n 	Future CSRD learning journey\n\nMore information/regist
 er
ATTACH;FMTTYPE=image/jpeg:https://www.duurzaam-ondernemen.nl/wordpress/wp-
 content/uploads/2023/02/oneday.png
CATEGORIES:Verslaggeving &amp; Transparantie
LOCATION:Kantoor Impact Institute\, Van Diemenstraat 292\, Amsterdam\, 1013
  CR \, Nederland
GEO:52.39015;4.887961
X-APPLE-STRUCTURED-LOCATION;VALUE=URI;X-ADDRESS=Van Diemenstraat 292\, Amst
 erdam\, 1013 CR \, Nederland;X-APPLE-RADIUS=100;X-TITLE=Kantoor Impact Ins
 titute:geo:52.39015,4.887961
END:VEVENT
BEGIN:VTIMEZONE
TZID:Europe/Amsterdam
X-LIC-LOCATION:Europe/Amsterdam
BEGIN:STANDARD
DTSTART:20231029T020000
TZOFFSETFROM:+0200
TZOFFSETTO:+0100
TZNAME:CET
END:STANDARD
END:VTIMEZONE
END:VCALENDAR