BEGIN:VCALENDAR
VERSION:2.0
PRODID:-//wp-events-plugin.com//7.2.3.1//EN
TZID:Europe/Amsterdam
X-WR-TIMEZONE:Europe/Amsterdam
BEGIN:VEVENT
UID:1194@duurzaam-ondernemen.nl
DTSTART;TZID=Europe/Amsterdam:20240118T090000
DTEND;TZID=Europe/Amsterdam:20240118T170000
DTSTAMP:20240111T100504Z
URL:https://www.duurzaam-ondernemen.nl/events/csrd-in-een-dag-voor-adviseu
 rs/
SUMMARY:CSRD in Een Dag voor Adviseurs
DESCRIPTION:CSRD IN EEN DAG is een interactieve cursus\, speciaal bedoeld v
 oor adviseurs die de CSRD de komende jaren moeten gaat toepassen in hun be
 drijf.\n\nIn een dag leren wij jou alle ins en outs over de CSRD en de ESR
 S rapportagestandaarden. De cursus gaat met name in op de praktische uitwe
 rking van de CSRD: hoe voer ik een materialiteitsanalyse uit\, hoe regel i
 k intern het projectmanagement in rondom CSRD en waar moet ik wel en niet 
 over rapporteren?\nVoor wie is deze cursus bedoeld?\n\n 	Financiële exper
 ts\, controllers\, auditors\, rapportage- en duurzaamheidsexperts.\n 	Prof
 essionals die willen starten met de CSRD implementatie in hun bedrijf en w
 illen weten wat de eerste stappen moeten zijn.\n 	Professionals die een st
 apje verder te gaan dan alleen CSRD-compliance en daarmee daadwerkelijk he
 t verschil willen maken.\n\nOpzet en meer informatie\nDe cursus bestaat ui
 t 9 modules.\n\nDe cursus duurt van 9:00 - 18:00 (met koffiepauzes\, lunch
 pauze en einde dag een netwerkborrel).\n\nDoe mee aan onze cursus en:\n\n 
 	Verwerf alle benodigde kennis en vaardigheden om binnen jouw bedrijf dire
 ct aan de slag te gaan met CSRD.\n 	Identificeer de belangrijkste stappen 
 om te voldoen aan de ESRS-vereisten.\n 	Maak een gap-analyse en stel de ac
 tiepunten vast in overeenstemming met de ESRS-vereisten.\n 	Beoordeel dubb
 ele materialiteit in overeenstemming met de ESRS-vereisten.\n 	Maak een pe
 rsoonlijk ESRS actieplan om het eerste ESRS project in uw organisatie te s
 tarten.\n\nOverzicht modules\n\n 	CSRD in een notendop\n 	ESRS projectbehe
 er\n 	ESRS is bevroren\n 	ESRS materialiteitsanalyse\n 	'Environmental' ES
 RS met een focus op ESRS E4 ('Biodiversity and Ecosystems')\n 	'Sociale' E
 SRS\, met een focus op ESRS S2 ('Workers in the Value Chain')\n 	Actieplan
  &amp\; ESRS gap-analyse\n 	Governance ESRS G1 (als e-learning via ons edu
 catieve platform)\n 	Gegevensbeheer (als e-learning via ons educatieve pla
 tform)\n\nGedurende de dag behandelen we de volledige reikwijdte van de al
 gemene ESRS (ESRS 1 en 2) en de specifieke ESRS op het gebied van 'Environ
 mental'\, 'Social' en 'Governance'. Onze cursus is altijd geupdate met de 
 laatste ESRS-updates.\n\nMeer informatie/aanmelden
ATTACH;FMTTYPE=image/jpeg:https://www.duurzaam-ondernemen.nl/wordpress/wp-
 content/uploads/2024/01/advisors.png
CATEGORIES:Verslaggeving &amp; Transparantie
LOCATION:Kantoor Impact Institute\, Van Diemenstraat 292\, Amsterdam\, 1013
  CR \, Nederland
GEO:52.39015;4.887961
X-APPLE-STRUCTURED-LOCATION;VALUE=URI;X-ADDRESS=Van Diemenstraat 292\, Amst
 erdam\, 1013 CR \, Nederland;X-APPLE-RADIUS=100;X-TITLE=Kantoor Impact Ins
 titute:geo:52.39015,4.887961
END:VEVENT
BEGIN:VTIMEZONE
TZID:Europe/Amsterdam
X-LIC-LOCATION:Europe/Amsterdam
BEGIN:STANDARD
DTSTART:20231029T020000
TZOFFSETFROM:+0200
TZOFFSETTO:+0100
TZNAME:CET
END:STANDARD
END:VTIMEZONE
END:VCALENDAR