BEGIN:VCALENDAR
VERSION:2.0
PRODID:-//wp-events-plugin.com//7.2.3.1//EN
TZID:Europe/Amsterdam
X-WR-TIMEZONE:Europe/Amsterdam
BEGIN:VEVENT
UID:2051@duurzaam-ondernemen.nl
DTSTART;TZID=Europe/Amsterdam:20260414T143000
DTEND;TZID=Europe/Amsterdam:20260414T200000
DTSTAMP:20260331T094937Z
URL:https://www.duurzaam-ondernemen.nl/events/cradle-to-cradle-cafe-festiv
 al/
SUMMARY:15 jaar Cradle to Cradle Café Festival
DESCRIPTION:Het Cradle to Cradle Café viert dit jaar een bijzondere mijlpa
 al: 15 jaar aan innovatie\, impact en inspiratie om de bouwsector te verd
 uurzamen. We nodigen je van harte uit voor een feestelijk en speciaal midd
 agprogramma\, waarin we samen stilstaan bij het ontstaan van het Cradle to
  Cradle‑gedachtengoed\, de weg die we hebben afgelegd en de toekomst die
  voor ons ligt. Niemand minder dan Michael Braungart\, Thomas Rau en C
 écile van Oppen delen op geheel eigen wijze hun visie op de rol van Cradl
 e to Cradle-principes binnen de circulaire bouw en economie.\n\nMet hun sc
 herpe inzichten\, frisse perspectieven en jarenlange ervaring nemen zij on
 s mee langs de oorsprong van Cradle to Cradle\, de groeiende impact en toe
 komstige ontwikkelingen in de assessment van materiaalgezondheid\, circula
 riteit en social fairness.\n\nEen inspirerende bijeenkomst\, voor iedereen
  die vooruit wil kijken en wil bouwen aan een écht circulaire wereld. We 
 hopen je tijdens de viering van ons 15-jarig bestaan te mogen verwelkomen.
 \nProgramma\n14.30 – 15.00 uur\nInloop Central Park\n15.00 – 15.15 uur
 \nWelkomstwoord\n15.15 – 15.30 uur\nIntroductie C2C door Ren DeCherney (
 C2C PII)\n15.30 – 16.15 uur\nMichael Braungart (BRAUNGART EPEA)\n16.15 
 – 16.45 uur\nPauze \n16.45 – 17.30 uur\nThomas Rau (RAU Architects)\n
 17.30 – 18.15 uur\nCécile van Oppen (Copper8)\n18.30 – 20.00 uur\nNet
 werken en walking dinner\n\nMeer informatie/aanmelden\nCradle to Cradle Ca
 fé\n\n\nHet Cradle to Cradle Café is een initiatief dat is ontstaan in 2
 010 uit een samenwerkingsverband tussen de bedrijven Koninklijke Ahrend\, 
 Desso en Koninklijke Mosa. Deze bedrijven ontwikkelen en produceren hun pr
 oducten volgens de Cradle to Cradle principes.\n\nZe gaan echter nog een s
 tapje verder en zetten zich in om het Cradle to Cradle – gedachtengoed v
 erder te verspreiden. Hiervoor is onder andere het Cradle to Cradle Café 
 in het leven geroepen. Cradle to Cradle Cafés zijn miniseminars waarin ac
 tuele en uiteenlopende onderwerpen op het gebied van Cradle to Cradle en d
 uurzaamheid worden besproken door diverse inspirerende sprekers. Zo wordt 
 u snel volledig geïnformeerd over een actueel duurzaamheidsthema in de bo
 uwsector. De cafés vinden 4 keer per jaar plaats in verschillende regio
 ’s in Nederland.\n\n
ATTACH;FMTTYPE=image/jpeg:https://www.duurzaam-ondernemen.nl/wordpress/wp-
 content/uploads/2026/03/15jaar.jpg
CATEGORIES:Bouw/Infra &amp; Vastgoed,Circulaire economie
LOCATION:Central Park Utrecht\, Stadsplateau 30\, Utrecht\, 3521 AZ\, Neder
 land
GEO:52.090269;5.107163
X-APPLE-STRUCTURED-LOCATION;VALUE=URI;X-ADDRESS=Stadsplateau 30\, Utrecht\,
  3521 AZ\, Nederland;X-APPLE-RADIUS=100;X-TITLE=Central Park Utrecht:geo:5
 2.090269,5.107163
END:VEVENT
BEGIN:VTIMEZONE
TZID:Europe/Amsterdam
X-LIC-LOCATION:Europe/Amsterdam
BEGIN:DAYLIGHT
DTSTART:20260329T030000
TZOFFSETFROM:+0100
TZOFFSETTO:+0200
TZNAME:CEST
END:DAYLIGHT
END:VTIMEZONE
END:VCALENDAR