BEGIN:VCALENDAR
VERSION:2.0
PRODID:-//wp-events-plugin.com//7.2.3.1//EN
TZID:Europe/Amsterdam
X-WR-TIMEZONE:Europe/Amsterdam
BEGIN:VEVENT
UID:2007@duurzaam-ondernemen.nl
DTSTART;TZID=Europe/Amsterdam:20260512T093000
DTEND;TZID=Europe/Amsterdam:20260512T170000
DTSTAMP:20260220T130448Z
URL:https://www.duurzaam-ondernemen.nl/events/congres-laadinfra-nederland/
SUMMARY:Congres Laadinfra Nederland
DESCRIPTION:Op 12 mei aanstaande vindt in De Rijtuigenloods in Amersfoort d
 e Nederlandse editie van Congres Laadinfra plaats. Dit congres is in korte
  tijd uitgegroeid tot een toonaangevend evenement binnen de wereld van laa
 dinfrastructuur\, wagenparkbeheer en energietransitie.\n\nMet ruim 400 bez
 oekers en een groeiende mini-beursvloer met circa 20 exposanten biedt het 
 congres een krachtig platform waar inhoud en ontmoeting samenkomen.\n\nTij
 dens deze dag brengen wij beleidsmakers\, wagenparkbeheerders\, energiepro
 fessionals\, aanbieders van laadinfrastructuur en andere stakeholders bije
 en om:\n\n 	Actuele ontwikkelingen in laadinfrastructuur en netcapaciteit 
 te bespreken\n 	Praktijkervaringen te delen rondom uitrol\, beheer en opsc
 haling\n 	Inzicht te krijgen in wet- en regelgeving en marktontwikkelingen
 \n 	Nieuwe samenwerkingen en businesskansen te verkennen\n\nHet congres bi
 edt een inhoudelijk sterk programma met strategische keynotes\, praktijkca
 ses en panels\, gecombineerd met ruime netwerkmomenten op de beursvloer.\n
 \nCongres Laadinfra Nederland is dé ontmoetingsplek voor professionals di
 e actief bijdragen aan de verdere elektrificatie van mobiliteit in Nederla
 nd.\n\nMeer info en tickets: www.congreslaadinfra.nl\n\n
ATTACH;FMTTYPE=image/jpeg:https://www.duurzaam-ondernemen.nl/wordpress/wp-
 content/uploads/2026/02/De-toekomst-van-laden-begint-hier-scaled.jpg
CATEGORIES:Mobiliteit en Transport/Logistiek
LOCATION:De Rijtuigenloods\, Piet Mondriaanplein 61\, Amersfoort\, 3812 GZ\
 , Nederland
GEO:52.155169;5.36725
X-APPLE-STRUCTURED-LOCATION;VALUE=URI;X-ADDRESS=Piet Mondriaanplein 61\, Am
 ersfoort\, 3812 GZ\, Nederland;X-APPLE-RADIUS=100;X-TITLE=De Rijtuigenlood
 s:geo:52.155169,5.36725
END:VEVENT
BEGIN:VTIMEZONE
TZID:Europe/Amsterdam
X-LIC-LOCATION:Europe/Amsterdam
BEGIN:DAYLIGHT
DTSTART:20260329T030000
TZOFFSETFROM:+0100
TZOFFSETTO:+0200
TZNAME:CEST
END:DAYLIGHT
END:VTIMEZONE
END:VCALENDAR