BEGIN:VCALENDAR
VERSION:2.0
PRODID:-//wp-events-plugin.com//7.2.3.1//EN
TZID:Europe/Amsterdam
X-WR-TIMEZONE:Europe/Amsterdam
BEGIN:VEVENT
UID:2042@duurzaam-ondernemen.nl
DTSTART;TZID=Europe/Amsterdam:20260410T100000
DTEND;TZID=Europe/Amsterdam:20260410T150000
DTSTAMP:20260324T154712Z
URL:https://www.duurzaam-ondernemen.nl/events/congres-gendergelijkheid-als
 -drijvende-kracht-voor-een-groene-transitie-2/
SUMMARY:Congres: Gendergelijkheid als drijvende kracht voor een groene tran
 sitie
DESCRIPTION:Een solo moeder in Amsterdam die in energiearmoede leeft en haa
 r rekening niet kan betalen. Een jonge vrouw in de Democratische Republiek
  Congo die nabij een kobaltmijn woont en kampt met miskramen. Wat hebben z
 ij met elkaar te maken? Meer dan je misschien denkt.\n\nNamens het Gender 
 Meer Partijen Initiatief (Gender MPI) nodigen WO=MEN Dutch Gender Platfor
 m en Politica je van harte uit voor het congres Gendergelijkheid als dr
 ijvende kracht voor een groene transitie op 10 april in Den Haag. Dit or
 ganiseren wij samen met onze leden 75 INQ\, ActionAid Nederland\, Both 
 Ends\, CARE Nederland\, Jonge Klimaatbeweging\, Mondiaal FNV\, New Wom
 en Connectors en WECF.\n\nDe groene transitie naar een duurzame economie
  is wereldwijd in volle gang\; hierbij stappen we over van fossiele brands
 toffen naar groene energie. Deze groene transitie biedt zowel kansen voor 
 de solo moeder in Amsterdam als de jonge vrouw in de Democratische Republi
 ek Congo. Het is hiervoor wel essentieel dat zij volwaardig mee kunnen doe
 n en aan tafel zitten wanneer er belangrijke besluiten genomen worden over
  de invulling van de energietransitie. Dit is niet alleen eerlijk\, maar o
 ok slim.\n\nToch zijn vrouwen nog sterk ondervertegenwoordigd in besluitvo
 rming rondom de groene transitie\, en krijgen zij minder kansen:\n\n 	Slec
 hts 22% van de werknemers in de energiesector in Nederland is vrouw.\n 	
 Van de energie en mijnbouw ministers wereldwijd is slechts 12% vrouw.\n 
 	Financiering bereikt lokaal geleide vrouwenorganisaties nauwelijks. In 20
 18-2019 slechts 0\,22% van de klimaatgerelateerde ontwikkelingssamenwerk
 ing naar vrouwenrechtenorganisaties.\n\nWat verandert er wanneer vrouwen w
 él meebeslissen en meedoen? En wat is nodig om gelijke participatie van v
 rouwen in de energietransitie realiteit te maken?\n\nTijdens dit event bre
 ngen we politici\, beleidsmakers\, experts\, bedrijven en een breed geïnt
 eresseerd publiek samen om gendergelijkheid en de politieke en economische
  participatie van vrouwen in de energietransitie centraal te zetten. We ga
 an in gesprek over de kansen\, de knelpunten en de impact van wet- en rege
 lgeving die gelijke deelname in de energietransitie ondersteunt.\nProgramm
 a\n10:00-10:30 Inloop\n\n10:30-11:00 Openingsgesprek met keynotes van sp
 rekers:\n\n 	Mariëlle Feenstra\, medeoprichtster/wetenschappelijk directe
 ur van 75INQ\n 	Activiste/Programmadirecteur Fatima Valley van MACUA/WAM
 UA\n\n11:00-12:00 Panelgesprek met Tweede Kamerleden\, onder andere:\n\n 
 	Christine Teunissen (PvdD)\n 	Suzanne Kröger (GL/PvdA)\n 	Alisha Müller
  (VVD)\n\n12:00-13:00 Netwerklunch\n\n13:00-14:45 Verschillende workshop
 s over een genderrechtvaardige energietransitie:\n\ngeleid door leden van 
 WO=MEN.\n\n14:45-15:00 Plenaire afsluiting\n\nLocatie: Den Haag\, dicht
 bij treinstation Den Haag Centraal (details worden kort voor het congres b
 ekend)\n\nAanmelden
ATTACH;FMTTYPE=image/jpeg:https://www.duurzaam-ondernemen.nl/wordpress/wp-
 content/uploads/2026/03/unnamed-2026-03-24T164406.522.jpg
CATEGORIES:Duurzaamheidsprofessionals
LOCATION:\, \, Nederland
X-APPLE-STRUCTURED-LOCATION;VALUE=URI;X-ADDRESS=\, Nederland;X-APPLE-RADIUS
 =100;X-TITLE=:geo:0,0
END:VEVENT
BEGIN:VTIMEZONE
TZID:Europe/Amsterdam
X-LIC-LOCATION:Europe/Amsterdam
BEGIN:DAYLIGHT
DTSTART:20260329T030000
TZOFFSETFROM:+0100
TZOFFSETTO:+0200
TZNAME:CEST
END:DAYLIGHT
END:VTIMEZONE
END:VCALENDAR