BEGIN:VCALENDAR
VERSION:2.0
PRODID:-//wp-events-plugin.com//7.2.3.1//EN
TZID:Europe/Amsterdam
X-WR-TIMEZONE:Europe/Amsterdam
BEGIN:VEVENT
UID:1293@duurzaam-ondernemen.nl
DTSTART;TZID=Europe/Amsterdam:20240919T093000
DTEND;TZID=Europe/Amsterdam:20240919T170000
DTSTAMP:20240314T140254Z
URL:https://www.duurzaam-ondernemen.nl/events/congres-financiering-van-de-
 energietransitie/
SUMMARY:Congres ' Financiering van de Energietransitie'
DESCRIPTION:Ontdek de toekomst van duurzame financiering! \nTerwijl gemeen
 ten en overheden zich voorbereiden op de onvermijdelijke kostenstijging va
 n het klimaat- en energiebeleid\, die naar verwachting zal oplopen tot rui
 m een miljard euro in 2030\, staat de vraag centraal hoe we deze uitdaging
 en gezamenlijk kunnen aangaan.\nHet congres Financiering van de Energietra
 nsitie belicht de cruciale rol van innovatieve financieringsmodellen en 
 praktijkvoorbeelden in het overbruggen van de financiële kloof. Op 19 sep
 tember duiken we in de wereld van blended finance\, ontdekken hoe warmtepr
 ojecten vorm krijgen\, en onderzoeken de zin en win van investeringen in d
 e energietransitie.\nMis het niet en pak deze unieke kans om de laatste on
 twikkelingen\, uitdagingen en oplossingen in de financiering van de energi
 etransitie te verkennen.\nMeer informatie en registreren
ATTACH;FMTTYPE=image/jpeg:https://www.duurzaam-ondernemen.nl/wordpress/wp-
 content/uploads/2024/03/73182-BANNERS.jpg
CATEGORIES:Klimaat en Energie
LOCATION:Rotterdam Ahoy Convention Centre\, Ahoyweg 10\, Rotterdam\, 3084 B
 A \, Nederland
GEO:51.881942;4.486594
X-APPLE-STRUCTURED-LOCATION;VALUE=URI;X-ADDRESS=Ahoyweg 10\, Rotterdam\, 30
 84 BA \, Nederland;X-APPLE-RADIUS=100;X-TITLE=Rotterdam Ahoy Convention Ce
 ntre:geo:51.881942,4.486594
END:VEVENT
BEGIN:VTIMEZONE
TZID:Europe/Amsterdam
X-LIC-LOCATION:Europe/Amsterdam
BEGIN:DAYLIGHT
DTSTART:20240331T030000
TZOFFSETFROM:+0100
TZOFFSETTO:+0200
TZNAME:CEST
END:DAYLIGHT
END:VTIMEZONE
END:VCALENDAR