BEGIN:VCALENDAR
VERSION:2.0
PRODID:-//wp-events-plugin.com//7.2.3.1//EN
TZID:Europe/Amsterdam
X-WR-TIMEZONE:Europe/Amsterdam
BEGIN:VEVENT
UID:1991@duurzaam-ondernemen.nl
DTSTART;TZID=Europe/Amsterdam:20260319T123000
DTEND;TZID=Europe/Amsterdam:20260319T190000
DTSTAMP:20260311T152136Z
URL:https://www.duurzaam-ondernemen.nl/events/congres-circulair-ondernemen
 /
SUMMARY:Congres Circulair Ondernemen
DESCRIPTION:Dit jaar kan de jaarlijkse Nationale Conferentie Circulaire Eco
 nomie georganiseerd door Ministerie van Infrastructuur en Waterstaat niet 
 de aftrap zijn van de Week van de Circulaire Economie. Volgend jaar zal de
 ze in Rotterdam georganiseerd worden. Als alternatief wordt het Congres Ci
 rculair Ondernemen georganiseerd door Route Circulair\, Circulair Utrecht 
 en Pino Evenementen en Congressen. Hare Majesteit Koningin Máxima is same
 n met de minister van Klimaat &amp\; Groene Groei\, Stientje van Veldhoven
  aanwezig op het congres!\n\nNederland staat op een economisch kantelpunt.
  Grondstoffen worden schaarser\, internationale ketens kwetsbaarder en geo
 politieke afhankelijkheden nemen toe\, terwijl het bedrijfsleven concurrer
 end en innovatief moet blijven. In die context is circulair ondernemen gee
 n vrijblijvende duurzaamheidskeuze meer\, maar een strategische voorwaarde
  voor het toekomstig verdienvermogen van Nederland.\nAan de slag door circ
 ulair te ondernemen\nCirculariteit raakt de kern van onze economie: produc
 tiviteit\, toegang tot materialen\, risicobeheersing in ketens en nieuwe v
 erdienmodellen. Toch blijft de opschaling achter bij de urgentie. Er zijn 
 veel goede voorbeelden\, maar tempo en schaal zijn onvoldoende.\n\nOok het
  rapport van Peter Wennink onderstreept het belang van technologie en inno
 vatie voor ons verdienvermogen\, maar laat één cruciale bouwsteen onbeno
 emd: de circulaire economie als expliciete motor voor brede welvaart. Dat 
 is een gemiste kans. Circulariteit gaat niet over ‘groen doen’\, maar 
 over productiviteit\, strategische autonomie en nieuwe verdienmodellen.\n\
 nAls we circulariteit blijven zien als bijvangst van duurzaamheid\, laten 
 we economisch rendement liggen. Positioneren we haar als kern van ons verd
 ienvermogen\, dan bouwen we aan een veerkrachtig en welvarend Nederland. D
 aar gaan we op 19 maart mee aan de slag.\nOver het Congres Circulair Onder
 nemen\nHet Congres Circulair Ondernemen is het landelijke ontmoetingsmomen
 t voor de circulaire praktijk. In 2026\, het jaar waarin de Nationale Conf
 erentie Circulaire Economie (NCCE) een pas op de plaats maakt\, nemen onde
 rnemers\, ketenpartners en regionale versnellers het initiatief om dit jaa
 rlijkse momentum vast te houden. Niet als alternatief voor beleid\, maar a
 ls noodzakelijke aanvulling daarop: vanuit het bedrijfsleven\, met focus o
 p uitvoering en opschaling.\nUtrecht als circulair knooppunt\nOp 19 maart 
 2026 komen in de Werkspoorkathedraal in Utrecht zo’n 800 ondernemers\, r
 egio’s en overheden samen rond één centrale vraag: hoe maken we circul
 air ondernemen schaalbaar\, rendabel en leidend in de Nederlandse economie
 ?\n\nDit congres is geen podium voor abstracte ambities of losse pilots\, 
 maar een werkplaats voor opschaling. Circulaire ondernemers laten zien wat
  vandaag al werkt\, waar het schuurt en wat nodig is om van experimenten d
 oor te groeien naar de nieuwe norm. De focus ligt op ketensamenwerking\, g
 rip op grondstoffen en de juiste condities voor groei.\nDe meest actiegeri
 chte regio's\nDoor praktijk\, ondernemerschap en regionale kracht centraal
  te zetten - over sectoren heen - markeert het Congres Circulair Onderneme
 n een duidelijke verschuiving: van praten over circulariteit naar bouwen a
 an een circulaire economie. Vereningingen zoals Circulair Friesland\, Circ
 ulair Groningen/Drenthe\, Up New\, Circulair West en Circulair Utrecht lat
 en zien hoe provincies\, gemeentes\, onderwijs en ondernemers samen tot co
 ncrete resultaten komen.\nDoelen van het Congres Circulair Ondernemen\n1.
  Circulariteit positioneren als concurrentiestrategie\n\nCirculariteit ex
 pliciet neerzetten als economische en geopolitieke noodzaak voor het toeko
 mstig verdienvermogen\, de strategische autonomie en de weerbaarheid van N
 ederland.\n\n2. Versnellen van opschaling en actie\nRichting geven aan de
  volgende fase van circulair ondernemerschap door gezamenlijke reflectie o
 p de Staat van het Circulair Ondernemerschap en het formuleren van concret
 e publiek-private actieagenda’s\, met nadruk op kritieke grondstoffen en
  ketens.\n\n3. Versterken en verbinden van het ondernemersnetwerk\n\nHet 
 nationale netwerk van circulaire ondernemers en ketenpartners versterken e
 n regionale initiatieven bundelen tot één gezamenlijk\, zichtbaar verhaa
 l vanuit het bedrijfsleven.\n\n4. Een krachtig nationaal podium bieden\n\n
 Tweejaarlijks een toonaangevend nationaal podium creëren voor circulaire 
 koplopers\, waar kansen en knelpunten worden geduid in het licht van belei
 d\, het rapport-Wennink en geopolitieke ontwikkelingen\, en waar onderneme
 rs leidend zijn.\nVoor wie?\nHet Congres Circulair Ondernemen richt zich p
 rimair op ondernemers en bedrijven die vandaag al bouwen aan de circulaire
  economie van morgen. Met een duidelijke focus op ondernemerschap\, ketens
 amenwerking en opschaling vormt het congres een inhoudelijke meehanger van
  de NCCE: minder beleid\, meer praktijk\, in constructieve samenspraak met
  de overheid.\n\nHet congres is bedoeld voor bedrijven die circulair ontwe
 rpen\, produceren of organiseren\, actief zijn in (nieuwe) ketens\, willen
  opschalen en investeren\, en willen leren van én samenwerken met andere 
 koplopers. Van maakindustrie tot dienstverlening en ketensamenwerking: ond
 ernemerschap staat centraal.\n\nDaarnaast richt het congres zich op partij
 en die de opschaling van circulair ondernemerschap mogelijk maken\, zoals 
 financiers en impact-investeerders\, kennisinstellingen en experts\, regio
 nale en landelijke netwerken en beleidsmakers met een  expliciete focus o
 p ondernemerschap en economische transitie.\nProgramma\n14:45 – 15:10 
 | Inloop en ontvangst\n15:10 – 16:25 | Plenair programma\n16:25 – 19:0
 0 | Expo &amp\; netwerkborrel\n\nTijdens het plenaire programma zijn onder
  andere Hare Majesteit Koningin Máxima en minister Stientje van Veld
 hoven aanwezig. Daarnaast gaan ondernemers\, financiers en regionale best
 uurders – waaronder Jan-Joost Bosman (Auping)\, Thijs Wester (PAKT)\, H
 ester Klein Lankhorst (Verpact)\, Allard Castelein (Speciaal Vertegenwoord
 iger Grondstoffenstrategie) en Arjan Groen (Rabobank) – met elkaar in
  gesprek over de opschaling van circulair ondernemen.\n\nOok wordt het rap
 port Staat van Circulair Ondernemen 2026 gepresenteerd en wordt de hand
 reiking voor de actieagenda voor circulair ondernemen\, opgesteld tijdens
  de actietafels\, aangeboden aan de minister.\n\nMeer informatie/aanmelden
 \n\n
ATTACH;FMTTYPE=image/jpeg:https://www.duurzaam-ondernemen.nl/wordpress/wp-
 content/uploads/2026/02/1771267225132.jpg
CATEGORIES:Circulaire economie,Duurzaamheidsprofessionals
LOCATION:Werkspoorkathedraal\, Tractieweg 41\, Utrecht\, 3534 AP\, Nederlan
 d
GEO:52.105057;5.079845
X-APPLE-STRUCTURED-LOCATION;VALUE=URI;X-ADDRESS=Tractieweg 41\, Utrecht\, 3
 534 AP\, Nederland;X-APPLE-RADIUS=100;X-TITLE=Werkspoorkathedraal:geo:52.1
 05057,5.079845
END:VEVENT
BEGIN:VTIMEZONE
TZID:Europe/Amsterdam
X-LIC-LOCATION:Europe/Amsterdam
BEGIN:STANDARD
DTSTART:20251026T020000
TZOFFSETFROM:+0200
TZOFFSETTO:+0100
TZNAME:CET
END:STANDARD
END:VTIMEZONE
END:VCALENDAR