BEGIN:VCALENDAR
VERSION:2.0
PRODID:-//wp-events-plugin.com//7.2.3.1//EN
TZID:Europe/Amsterdam
X-WR-TIMEZONE:Europe/Amsterdam
BEGIN:VEVENT
UID:1892@duurzaam-ondernemen.nl
DTSTART;TZID=Europe/Amsterdam:20251122T100000
DTEND;TZID=Europe/Amsterdam:20251122T170000
DTSTAMP:20251107T111106Z
URL:https://www.duurzaam-ondernemen.nl/events/conferentie-samen-in-de-ener
 gietransitie/
SUMMARY:Conferentie “Samen in de Energietransitie”
DESCRIPTION:De energietransitie is in volle gang — maar hoe zorgen we dat
  iedereen mee kan doen? Op 22 november 2025 organiseren Stichting Nederlan
 d Maakt Impact en WECF International (Women Engage for a Common Future
 ) een inspirerende dag vol kennis\, dialoog en interactie rondom het thema
  “Samen in de Energietransitie”.\n\nTijdens deze dag brengen we jonge 
 toekomstdragers\, impactmakers\, maatschappelijke organisaties en bedrijve
 n samen om te verkennen hoe we de overgang naar duurzame energie eerlijk\,
  inclusief en rechtvaardig kunnen maken. Want een groene toekomst is pas 
 écht duurzaam als niemand wordt buitengesloten. Daarbij kijken we naar t
 echnologische innovaties\, bredere systeemverandering die nodig is én naa
 r lokale oplossingen die vanuit gemeenschappen zelf ontstaan.\nWat kun je 
 verwachten?\n\n 	Inspirerende toespraken van deskundigen in de energietran
 sitie\n 	Interactieve workshops over klimaatrechtvaardigheid\, energiearmo
 ede en burgerinitiatieven\n 	Panels met experts\, ervaringsdeskundigen en 
 jonge leiders\n 	Ruimte voor ontmoeting\, netwerk en samenwerking\n\n Waa
 rom dit thema?\nDe energietransitie raakt ons allemaal — maar niet ieder
 een op dezelfde manier. Vrouwen\, jongeren en mensen met een lager inkomen
  worden nog te vaak over het hoofd gezien in de besluitvorming. Daarom zet
 ten wij in op inclusieve verandering: een transitie die niet alleen techno
 logisch\, maar ook sociaal duurzaam is.\nBevestigde sprekers\n\n 	Bas van 
 Abel - Oprichter Fairphone | Social entrepreneur | Designer\n 	Aniek Moo
 nen - Toekomstbouwer | Oprichter Future Design Institute\n 	Frank Huisingh
  - Oprichter Fossil Free Football | Voormalig diplomaat\n 	Musetta van Wet
 singh - Ik werk elke dag aan een eerlijkere en socialere energietransitie\
 n 	Jiajun Cen - Oprichter en CEO van AquaBattery\n 	Winne van Woerden - Pr
 ogrammacoördinator Degrowth &amp\; Care Economy bij het Commons Network\n
  	Fedde Jorritsma - Kringloopcoach\n\nMeer informatie/aanmelden
ATTACH;FMTTYPE=image/jpeg:https://www.duurzaam-ondernemen.nl/wordpress/wp-
 content/uploads/2025/11/unnamed-2025-11-07T120157.052.png
CATEGORIES:Klimaat en Energie
LOCATION:The Social Hub The Hague\, Hoefkade 9\, Den Haag\, 2526 BN\, Neder
 land
GEO:52.0713;4.319818
X-APPLE-STRUCTURED-LOCATION;VALUE=URI;X-ADDRESS=Hoefkade 9\, Den Haag\, 252
 6 BN\, Nederland;X-APPLE-RADIUS=100;X-TITLE=The Social Hub The Hague:geo:5
 2.0713,4.319818
END:VEVENT
BEGIN:VTIMEZONE
TZID:Europe/Amsterdam
X-LIC-LOCATION:Europe/Amsterdam
BEGIN:STANDARD
DTSTART:20251026T020000
TZOFFSETFROM:+0200
TZOFFSETTO:+0100
TZNAME:CET
END:STANDARD
END:VTIMEZONE
END:VCALENDAR