BEGIN:VCALENDAR
VERSION:2.0
PRODID:-//wp-events-plugin.com//7.2.3.1//EN
TZID:Europe/Amsterdam
X-WR-TIMEZONE:Europe/Amsterdam
BEGIN:VEVENT
UID:2049@duurzaam-ondernemen.nl
DTSTART;TZID=Europe/Amsterdam:20260417T090000
DTEND;TZID=Europe/Amsterdam:20260417T171500
DTSTAMP:20260331T070133Z
URL:https://www.duurzaam-ondernemen.nl/events/conferentie-rond-de-klok-gro
 en-van-visie-naar-actie/
SUMMARY:Conferentie 'Rond de klok Groen - Van visie naar actie'
DESCRIPTION:De conferentie 'Rond de klok Groen - Van visie naar actie' is o
 nderdeel van het Nederlandse 24/7 CFE-traject. In dit traject onderzoeken 
 we hoe Nederland kan uitgroeien tot voorbeeldland voor een volledig CO₂-
 vrije energievoorziening\; 24 uur per dag\, zeven dagen per week.\n\nDe co
 nferentie vormt de afronding van fase 1 (visie ontwikkelen) én opmaat naa
 r fase 2 (concrete vervolgstappen maken).\n\nWe delen de resultaten van de
  expertsessies van het afgelopen jaar en leggen bouwstenen voor de volgend
 e fase: hoe vertalen we de inzichten naar concrete vervolgstappen op weg n
 aar een volledig CO₂-vrije energievoorziening?\nVoor wie is de conferent
 ie bedoeld?\nDe conferentie richt zich op een diverse groep deelnemers uit
  verschillende sectoren en achtergronden:\n\n 	Beleidsmakers en overheidsi
 nstanties (landelijk\, lokaal\, RES-regio's\, VNG\, etc.)\n 	Energie-exper
 ts en netbeheerders\n 	Energiebedrijven en leveranciers\n 	Grote energiege
 bruikers (zoals datacenters\, industrie\, logistiek)\n 	Financiële instel
 lingen\n 	Wetenschappelijke instellingen\, kennisinstellingen en adviesbur
 eaus\n 	Maatschappelijke organisaties (zoals EnergieSamen\, energiegemeens
 chappen\, lokale initiatieven)\n 	een aantal belangstellenden uit andere E
 uropese landen\n\nMeer informatie/aanmelden
ATTACH;FMTTYPE=image/jpeg:https://www.duurzaam-ondernemen.nl/wordpress/wp-
 content/uploads/2026/03/HDCoCKyWIAAtZ62.jpg
CATEGORIES:Klimaat en Energie
LOCATION:KAS Meeting-Eventlocatie\, De Bleek 13\, Woerden\, 3447 GV\, Neder
 land
GEO:52.078761;4.885642
X-APPLE-STRUCTURED-LOCATION;VALUE=URI;X-ADDRESS=De Bleek 13\, Woerden\, 344
 7 GV\, Nederland;X-APPLE-RADIUS=100;X-TITLE=KAS Meeting-Eventlocatie:geo:5
 2.078761,4.885642
END:VEVENT
BEGIN:VTIMEZONE
TZID:Europe/Amsterdam
X-LIC-LOCATION:Europe/Amsterdam
BEGIN:DAYLIGHT
DTSTART:20260329T030000
TZOFFSETFROM:+0100
TZOFFSETTO:+0200
TZNAME:CEST
END:DAYLIGHT
END:VTIMEZONE
END:VCALENDAR