BEGIN:VCALENDAR
VERSION:2.0
PRODID:-//wp-events-plugin.com//7.2.3.1//EN
TZID:Europe/Amsterdam
X-WR-TIMEZONE:Europe/Amsterdam
BEGIN:VEVENT
UID:1881@duurzaam-ondernemen.nl
DTSTART;TZID=Europe/Amsterdam:20251111T093000
DTEND;TZID=Europe/Amsterdam:20251113T170000
DTSTAMP:20251024T093041Z
URL:https://www.duurzaam-ondernemen.nl/events/circulair-next/
SUMMARY:Vakbeurs Circulair Next
DESCRIPTION:Van dinsdag 11 tot en met donderdag 13 november 2025 vindt in E
 venementenhal Gorinchem de eerste editie plaats van Circulair Next\, een n
 ieuw congres en praktijkgerichte beursvloer die volledig in het teken staa
 t van de transitie naar een circulair Nederland.\n\n“Met Circulair Next 
 voegen we een nieuw kennis- en netwerkplatform toe aan Recycling. Onze amb
 itie is om beleid\, praktijk en innovatie dichter bij elkaar te brengen en
  zo de transitie naar een circulaire economie écht te versnellen. Dit con
 gres is niet alleen een plek om kennis op te doen\, maar vooral om samenwe
 rkingen te smeden die het verschil maken\,” aldus Robin Vissers\, Market
 ing Event Manager van Recycling en Circulair Next.\n\nDinsdag 11 november 
 – Van Ambitie naar Actie\nDe openingsdag draait om de nationale circulai
 re doelstellingen\, met onder meer de Integrale Circulaire Economie Rappor
 tage 2025 (PBL) en het Nationaal Programma Circulaire Economie. Met bijdra
 gen van o.a. Het Circulair Loket\, GeoFluxus en Renewi wordt de vertaalsla
 g gemaakt van beleidskaders naar concrete actie: van datagedreven sturing 
 tot ketensamenwerking en circulaire innovaties.\n\nWoensdag 12 november 
 – Hoogwaardig Hergebruik in de Bouw\nDeze dag\, georganiseerd door BRBS 
 Recycling\, VERAS en Water Alliance\, staat in het teken van circulaire bo
 uw. Praktijkvoorbeelden van Heijmans\, beleidsinzichten van het Ministerie
  van IenW en PS Loop\, REKO en WEEE Nederland geven in een debat inzicht i
 n wat circulaire oplossingen doet slagen – of juist niet.\n\nDonderdag 1
 3 november – Internationale Samenwerking\nDe slotdag richt zich op werel
 dwijde kansen en samenwerking in de circulaire economie. Het Ministerie va
 n IenW\, RVO\, Rijkswaterstaat en MetaSus delen welke gezamenlijke uitdagi
 ngen en kansen worden verkend op het gebied van circulaire samenwerking. E
 en Canadese delegatie komt op bezoek en toont de meerwaarde van internatio
 nale samenwerking en kennisdeling.\nOver Circulair Next en Recycling\nCirc
 ulair Next vindt plaats parallel aan Recycling\, 11-13 november 2025 in Ev
 enementenhal Gorinchem\, en vormt hét inhoudelijke kennisplatform waar be
 leid\, praktijk en innovatie in de circulaire economie samenkomen en waar 
 nieuwe samenwerkingen ontstaan. Beiden evenementen zijn gratis te bezoeken
  na voorregistratie.\n\n
ATTACH;FMTTYPE=image/jpeg:https://www.duurzaam-ondernemen.nl/wordpress/wp-
 content/uploads/2025/10/250416-Cir25-Website-Banner-320x100-1.jpg
CATEGORIES:Circulaire economie,Duurzaamheidsprofessionals
LOCATION:Evenementenhal Gorinchem\, Franklinweg 2\,  Gorinchem\,  4207 HZ\,
  Nederland
GEO:51.839975;5.009233
X-APPLE-STRUCTURED-LOCATION;VALUE=URI;X-ADDRESS=Franklinweg 2\,  Gorinchem\
 ,  4207 HZ\, Nederland;X-APPLE-RADIUS=100;X-TITLE=Evenementenhal Gorinchem
 :geo:51.839975,5.009233
END:VEVENT
BEGIN:VTIMEZONE
TZID:Europe/Amsterdam
X-LIC-LOCATION:Europe/Amsterdam
BEGIN:STANDARD
DTSTART:20251026T020000
TZOFFSETFROM:+0200
TZOFFSETTO:+0100
TZNAME:CET
END:STANDARD
END:VTIMEZONE
END:VCALENDAR