BEGIN:VCALENDAR
VERSION:2.0
PRODID:-//wp-events-plugin.com//7.2.3.1//EN
TZID:Europe/Amsterdam
X-WR-TIMEZONE:Europe/Amsterdam
BEGIN:VEVENT
UID:1935@duurzaam-ondernemen.nl
DTSTART;TZID=Europe/Amsterdam:20260330T093000
DTEND;TZID=Europe/Amsterdam:20260401T170000
DTSTAMP:20251218T121141Z
URL:https://www.duurzaam-ondernemen.nl/events/changenow-summit-2026/
SUMMARY:ChangeNOW Summit 2026
DESCRIPTION:Join us on 30-31 March &amp\; 1 April 2026 at the iconic Gra
 nd Palais in Paris for the most impactful event for the planet! This is t
 he place where meaningful connections are made and actionable ideas are se
 t in motion. More than just an event\, ChangeNOW is an experience to be l
 ived\, a real dive into a sustainable world.\n\nMore than just an event\,
  ChangeNOW is an experience to be lived\, a real dive into a sustainable 
 world.
ATTACH;FMTTYPE=image/jpeg:https://www.duurzaam-ondernemen.nl/wordpress/wp-
 content/uploads/2025/12/changenow.jpg
CATEGORIES:Duurzaamheidsprofessionals
LOCATION:Grand Palais\, 3\, avenue du Général-Eisenhower\, Parijs\, 75008
 \, Nederland
GEO:48.867227;2.31268
X-APPLE-STRUCTURED-LOCATION;VALUE=URI;X-ADDRESS=3\, avenue du Général-Eis
 enhower\, Parijs\, 75008\, Nederland;X-APPLE-RADIUS=100;X-TITLE=Grand Pala
 is:geo:48.867227,2.31268
END:VEVENT
BEGIN:VTIMEZONE
TZID:Europe/Amsterdam
X-LIC-LOCATION:Europe/Amsterdam
BEGIN:DAYLIGHT
DTSTART:20260329T030000
TZOFFSETFROM:+0100
TZOFFSETTO:+0200
TZNAME:CEST
END:DAYLIGHT
END:VTIMEZONE
END:VCALENDAR