BEGIN:VCALENDAR
VERSION:2.0
PRODID:-//wp-events-plugin.com//7.2.3.1//EN
TZID:Europe/Amsterdam
X-WR-TIMEZONE:Europe/Amsterdam
BEGIN:VEVENT
UID:2041@duurzaam-ondernemen.nl
DTSTART;TZID=Europe/Amsterdam:20260423T110000
DTEND;TZID=Europe/Amsterdam:20260423T120000
DTSTAMP:20260324T121753Z
URL:https://www.duurzaam-ondernemen.nl/events/carbon-expert-series-webinar
 -perspectives-on-corporate-climate-abition/
SUMMARY:Carbon Expert Series Webinar: Perspectives on corporate climate abi
 tion
DESCRIPTION:Het denken rond klimaatdoelstellingen van bedrijven evolueert. 
 Met de SBTi die haar geüpdatete Corporate Net-Zero Standard V2 zal uitbre
 ngen en het Greenhouse Gas Protocol dat werkt aan nieuwe richtlijnen rond 
 Actions and Market Instruments (AMI)\, worden belangrijke aannames rond do
 elstellingen en prestaties opnieuw bekeken. In dit webinar\, georganiseerd
  door Carbon+Alt+Delete\, verkennen we verschillende perspectieven om doel
 stellingen te bepalen\, hoe deze te bereiken en wat betekenisvolle vooruit
 gang werkelijk inhoudt.\n\nWe verwelkomen Robert Höglund als expertspreke
 r. Robert is lid van de SBTi Expert Working Group en van de expertgroep ro
 nd Carbon Removals van de Europese Commissie.\n\nSchrijf je hier in!\n\nDe
  Carbon Expert Series is opgezet om mensen die actief zijn binnen de carbo
 n accounting-wereld te verbinden\, inspireren en informeren. Samen met ext
 erne experten deelt het Carbon+Alt+Delete team inzichten over uiteenlopend
 e onderwerpen\, van wetgeving tot technologie\, van emissiefactoren tot pr
 oduct carbon footprint en meer.
ATTACH;FMTTYPE=image/jpeg:https://www.duurzaam-ondernemen.nl/wordpress/wp-
 content/uploads/2026/03/unnamed-59.png
CATEGORIES:Klimaat en Energie
LOCATION:Online webinar\,  \,  \, Nederland
GEO:52.132633;5.291266
X-APPLE-STRUCTURED-LOCATION;VALUE=URI;X-ADDRESS= \,  \, Nederland;X-APPLE-R
 ADIUS=100;X-TITLE=Online webinar:geo:52.132633,5.291266
END:VEVENT
BEGIN:VTIMEZONE
TZID:Europe/Amsterdam
X-LIC-LOCATION:Europe/Amsterdam
BEGIN:DAYLIGHT
DTSTART:20260329T030000
TZOFFSETFROM:+0100
TZOFFSETTO:+0200
TZNAME:CEST
END:DAYLIGHT
END:VTIMEZONE
END:VCALENDAR