BEGIN:VCALENDAR
VERSION:2.0
PRODID:-//wp-events-plugin.com//7.2.3.1//EN
TZID:Europe/Amsterdam
X-WR-TIMEZONE:Europe/Amsterdam
BEGIN:VEVENT
UID:1927@duurzaam-ondernemen.nl
DTSTART;TZID=Europe/Amsterdam:20260311T090000
DTEND;TZID=Europe/Amsterdam:20260312T163000
DTSTAMP:20251205T113937Z
URL:https://www.duurzaam-ondernemen.nl/events/carbon-capture-europe-summit
 -2026/
SUMMARY:Carbon Capture Europe Summit 2026
DESCRIPTION:Europe’s carbon capture\, utilization\, and storage (CCUS) ma
 rket is advancing into a decisive stage—beyond policy design and into la
 rge-scale deployment and regional integration. With frameworks such as the
  EU Industrial Carbon Management Strategy\, CO₂ storage regulations\, an
 d the Connecting Europe Facility providing a strong foundation\, the focus
  now shifts to implementation: enabling cross-border CO₂ transport and s
 torage\, scaling commercial models for infrastructure operations\, and fos
 tering collaboration among industrial clusters across regions. At the same
  time\, Europe must accelerate technological pathways including BECCS\, DA
 C\, and carbon farming\, while driving innovation and investment strategie
 s that will anchor a resilient\, competitive\, and scalable CCUS ecosystem
 .\nThe Carbon Capture Europe Summit 2026 (#CCES2026)\, taking place on 1
 1–12 March at the World Trade Center Rotterdam\, will convene over 60
 0 senior executives and decision-makers from government\, industry\, an
 d finance. Together\, they will address Europe’s strategic priorities
 —integrating regulatory frameworks\, unlocking new transport and storage
  capacity\, scaling CDR solutions\, and catalyzing innovation—to acceler
 ate the continent’s transition toward a carbon-neutral future.\nMore inf
 ormation / registration
ATTACH;FMTTYPE=image/jpeg:https://www.duurzaam-ondernemen.nl/wordpress/wp-
 content/uploads/2025/12/Carbon_Capture_Europe_Summit_webcrop.webp
CATEGORIES:Klimaat en Energie
LOCATION:Postillion Hotel & Convention Centre WTC Rotterdam\, Beursplein 37
 \, Rotterdam\, 3011 AM\, Nederland
GEO:51.920882;4.480472
X-APPLE-STRUCTURED-LOCATION;VALUE=URI;X-ADDRESS=Beursplein 37\, Rotterdam\,
  3011 AM\, Nederland;X-APPLE-RADIUS=100;X-TITLE=Postillion Hotel & Convent
 ion Centre WTC Rotterdam:geo:51.920882,4.480472
END:VEVENT
BEGIN:VTIMEZONE
TZID:Europe/Amsterdam
X-LIC-LOCATION:Europe/Amsterdam
BEGIN:STANDARD
DTSTART:20251026T020000
TZOFFSETFROM:+0200
TZOFFSETTO:+0100
TZNAME:CET
END:STANDARD
END:VTIMEZONE
END:VCALENDAR