BEGIN:VCALENDAR
VERSION:2.0
PRODID:-//wp-events-plugin.com//7.2.3.1//EN
TZID:Europe/Amsterdam
X-WR-TIMEZONE:Europe/Amsterdam
BEGIN:VEVENT
UID:1312@duurzaam-ondernemen.nl
DTSTART;TZID=Europe/Amsterdam:20240517T200000
DTEND;TZID=Europe/Amsterdam:20240517T220000
DTSTAMP:20240417T144628Z
URL:https://www.duurzaam-ondernemen.nl/events/boeklancering-higher-ground-
 how-business-can-do-the-right-thing-in-a-turbulent-world/
SUMMARY:Boeklancering 'Higher Ground. How business can do the right thing i
 n a turbulent world.'
DESCRIPTION:When did it become so difficult to establish what it means to b
 e a good business today? Purpose statements are placated across corporate 
 websites\, yet headlines are full of news of ethics scandals\, discoveries
  of child labor in supply chains\, and employee quiet quitting. In a conve
 rsation with the audience\, Alison Taylor will take us through her new boo
 k 'Higher Ground' and share hard-earned insight on how business can naviga
 te this messy paradigm shift\, build trust\, and achieve long-term strateg
 ic advantage in a turbulent world\nWith:\nAlison Taylor is a Clinical Asso
 ciate Professor at NYU Stern School of Business and Executive Director of 
 Ethical Systems. She has spent the past two decades consulting with multin
 ational companies on risk\, anti-corruption\, sustainability\, human right
 s\, culture and behavior\, stakeholder engagement\, ESG\, and ethics and c
 ompliance–including as a senior advisor at sustainability nonprofit BSR\
 , a member of the Board at Venture ESG\, and a sustainability adviser at Z
 ai Lab\, KKR\, and Pictet Group.\nAnna Krotova is Head of Sustainability 
 at Picnic in Amsterdam. She has been a forerunner in sustainability\, advo
 cating for transparent and responsible business practices that are rooted 
 in respect for planetary boundaries and human rights. In her roles at the 
 International Finance Corporation\, Metabolic\, Global Reporting Initiativ
 e\, and several private sector companies\, Anna has helped organizations i
 mprove their sustainability practices\, usher in impactive changes in comp
 any policies\, and encourage meaningful reflection around the issues. Anna
  also loves bringing together members of the sustainability community for 
 conversations that spark meaningful action\, and she’s the author of an 
 upcoming book\, “How to be a Chief Sustainability Officer.”\nFree regi
 stration\n\n
ATTACH;FMTTYPE=image/jpeg:https://www.duurzaam-ondernemen.nl/wordpress/wp-
 content/uploads/2024/04/higher.png
CATEGORIES:Duurzaamheidsprofessionals
LOCATION:Pakhuis de Zwijger\, Piet Heinkade 179\, Amsterdam\, 1019 HC\, Ned
 erland
GEO:52.3768621;4.9220775
X-APPLE-STRUCTURED-LOCATION;VALUE=URI;X-ADDRESS=Piet Heinkade 179\, Amsterd
 am\, 1019 HC\, Nederland;X-APPLE-RADIUS=100;X-TITLE=Pakhuis de Zwijger:geo
 :52.3768621,4.9220775
END:VEVENT
BEGIN:VTIMEZONE
TZID:Europe/Amsterdam
X-LIC-LOCATION:Europe/Amsterdam
BEGIN:DAYLIGHT
DTSTART:20240331T030000
TZOFFSETFROM:+0100
TZOFFSETTO:+0200
TZNAME:CEST
END:DAYLIGHT
END:VTIMEZONE
END:VCALENDAR