BEGIN:VCALENDAR
VERSION:2.0
PRODID:-//wp-events-plugin.com//7.2.3.1//EN
TZID:Europe/Amsterdam
X-WR-TIMEZONE:Europe/Amsterdam
BEGIN:VEVENT
UID:1297@duurzaam-ondernemen.nl
DTSTART;TZID=Europe/Amsterdam:20240410T123000
DTEND;TZID=Europe/Amsterdam:20240410T173000
DTSTAMP:20240322T093053Z
URL:https://www.duurzaam-ondernemen.nl/events/bijeenkomst-verduurzaming-be
 drijventerreinen/
SUMMARY:Bijeenkomst Verduurzaming bedrijventerreinen
DESCRIPTION:Uitnodiigng van PVB Nederland\, VNO-NCW en Werklandschappen van
  de Toekomst\n\nOm te kunnen blijven ondernemen is het noodzakelijk om gel
 d te investeren in de energietransitie\, vergroening\, wateropgave eninnov
 aties\, maar óók in samenwerkingsvormen. Maar hoe doe je dat? Welke oplo
 ssingen zijn eral? En door wie kan je geholpen worden?\n\nOp 10 april word
 en al deze vragen beantwoord. PVB Nederland\, VNO-NCW Midden en Werklands
 chappen van de Toekomst organiseren de eerste van een serie bijeenkomsten
  voor bestuurders en professionals die actief zijn op bedrijventerreinen i
 n Flevoland\, Gelderland en Utrecht. Tijdens deze bijeenkomsten willen we 
 informatie uitdelen en ophalen: uitdelen waar er concrete handreikingen en
  ‘best practices’ zijn\, ophalen waar het in de praktijk op vastloopt 
 en ander gereedschap nodig is.\n\nDeze sessie is voor alle bedrijven(terre
 inen) die zich bezig houden met het toekomstbestendig maken van bedrijvent
 erreinen en/of kantoorparken én parkmanagers en projectleiders die zich b
 ezig houden met de energietransitie. Daarom roepen wij alle besturen\, ond
 ernemers\, parkmanagers en andere professionals op om zich aan te melden. 
 Verduurzaming verdient een integrale aanpak van uw bedrijventerrein.\n\nKl
 ik hier om je aan te melden!\nProgramma\n12:30 uur Inlooplunch\n\n13:00 uu
 r Opening en welkom\n\n13:15 uur Plenaire sessie over integrale benadering
  bedrijventerreinen in gesprek met Judith Geursen\, Christian Klep van All
 iander en uiteraard ook een betrokken specialist van Tennet over de (on)mo
 gelijkheden voor samenwerking op bedrijventerreinen\nMadeleine Boer over d
 e inzet van de SPUK regelingen voor het verduurzamen van bedrijventerreine
 n\nWicha Benus over de praktijk van Smart Energy Hubs\; hoe pakt bedrijven
 terrein de Harselaar dit aan?\n\n14:15 uur Parallelsessies\nEffectief aan 
 de slag met de verduurzaming van bedrijventerreinen – door PVB Nederland
 \nWat levert een betere organisatiegraad en samenwerking op jouw bedrijven
 terrein je op? En hoe kan jij meedoen? – door Christian Lorist van VNO-N
 CW Midden\nIndustriele restwarmte inzetten: kansen voor duurzame warmte vo
 or het bedrijventerrein door Steven Lobregt\n\n15:30 uur Pauze\n\n15:45 uu
 r Parallelsessies\nHoe kan ik aan de slag met het vergroenen van mijn bedr
 ijventerreinen – door Lisa van Hout namens Werklandschappen van de toeko
 mst\nHoe kan je als bedrijventerreinen aan de slag met energy hubs? Door\n
 Etienne Schiffelers\n\n17:00 uur Borrel
ATTACH;FMTTYPE=image/jpeg:https://www.duurzaam-ondernemen.nl/wordpress/wp-
 content/uploads/2021/03/bedrijventerrein.jpg
CATEGORIES:Duurzaamheidsprofessionals
LOCATION:Bosch beton\, Grote Bosweg 1\, Barneveld\, 3771 LJ\, Nederland
GEO:52.170013;5.628021
X-APPLE-STRUCTURED-LOCATION;VALUE=URI;X-ADDRESS=Grote Bosweg 1\, Barneveld\
 , 3771 LJ\, Nederland;X-APPLE-RADIUS=100;X-TITLE=Bosch beton:geo:52.170013
 ,5.628021
END:VEVENT
BEGIN:VTIMEZONE
TZID:Europe/Amsterdam
X-LIC-LOCATION:Europe/Amsterdam
BEGIN:DAYLIGHT
DTSTART:20240331T030000
TZOFFSETFROM:+0100
TZOFFSETTO:+0200
TZNAME:CEST
END:DAYLIGHT
END:VTIMEZONE
END:VCALENDAR