BEGIN:VCALENDAR
VERSION:2.0
PRODID:-//wp-events-plugin.com//7.2.3.1//EN
TZID:Europe/Amsterdam
X-WR-TIMEZONE:Europe/Amsterdam
BEGIN:VEVENT
UID:1872@duurzaam-ondernemen.nl
DTSTART;TZID=Europe/Amsterdam:20251125T123000
DTEND;TZID=Europe/Amsterdam:20251125T173000
DTSTAMP:20251020T121112Z
URL:https://www.duurzaam-ondernemen.nl/events/bijeenkomst-facilitair-in-be
 weging/
SUMMARY:Bijeenkomst Facilitair in beweging
DESCRIPTION:De community FM circulair laat zien hoe samenwerking leidt tot 
 meer duurzaamheid.\n\nBen jij geïnteresseerd in praktische handvatten en 
 voorbeelden voor circulair en duurzaam facilitair beheer? En wil je netwer
 ken met vakgenoten\, leveranciers en experts en inspiratie opdoen voor aan
 bestedingen\, contracten en uitvoering?\n\nIn een informatieve én feestel
 ijke bijeenkomst deelt de community FM circulair oplossingen voor een circ
 ulaire toekomst in de facilitaire wereld waar in de afgelopen twee jaar ha
 rd aan is gewerkt. Ambitieuze\, maar haalbare initiatieven. De energie is 
 voelbaar — er is iets in gang gezet! En nu is het tijd om de opbrengsten
  met elkaar te delen.\nWat kun je verwachten?\n\n 	Presentaties van de 4 w
 erkgroepen: Afvalscheiding\, Minder is Meer\, Buyer Group en Regeneratief 
 eten en drinken\n 	Keynote door Manu Busschots\, oprichter van Klimaatgesp
 rekken en de Deep Change Academy\, klimaatpsycholoog en auteur van het boe
 k “van duurzaamheid naar deep change”\n 	Lancering van het Actieplan C
 irculair FM\n 	Een vooruitblik: hoe verder in 2026\n\nDeelname is gratis. 
 Inloop is vanaf 12.30 uur (zonder lunch). De afsluitende borrel van 16.45 
 – 17.30 uur.\n\nMeld je nu aan. We zien je graag op 25 november. Het ins
 chrijfformulier vind je hier: https://lnkd.in/egTPyCrd
ATTACH;FMTTYPE=image/jpeg:https://www.duurzaam-ondernemen.nl/wordpress/wp-
 content/uploads/2025/10/1760644095222.jpg
CATEGORIES:Bouw/Infra &amp; Vastgoed,Circulaire economie
LOCATION:\, \, 
X-APPLE-STRUCTURED-LOCATION;VALUE=URI;X-ADDRESS=\, ;X-APPLE-RADIUS=100;X-TI
 TLE=:geo:0,0
END:VEVENT
BEGIN:VTIMEZONE
TZID:Europe/Amsterdam
X-LIC-LOCATION:Europe/Amsterdam
BEGIN:STANDARD
DTSTART:20251026T020000
TZOFFSETFROM:+0200
TZOFFSETTO:+0100
TZNAME:CET
END:STANDARD
END:VTIMEZONE
END:VCALENDAR