BEGIN:VCALENDAR
VERSION:2.0
PRODID:-//wp-events-plugin.com//7.2.3.1//EN
TZID:Europe/Amsterdam
X-WR-TIMEZONE:Europe/Amsterdam
BEGIN:VEVENT
UID:1211@duurzaam-ondernemen.nl
DTSTART;TZID=Europe/Amsterdam:20240229T150000
DTEND;TZID=Europe/Amsterdam:20240229T163000
DTSTAMP:20240122T121859Z
URL:https://www.duurzaam-ondernemen.nl/events/bijeenkomst-de-groene-arbeid
 sovereenkomst/
SUMMARY:Bijeenkomst 'De Groene Arbeidsovereenkomst'
DESCRIPTION:\n\nMKB Deventer\, Moore MKW en Het Nationale Hybride Warmtepom
 p Plan organiseren samen hét Event over het vergroenen van de arbeidsvoor
 waarden.\nEen actueel onderwerp dat voor elke werkgever in de komende jare
 n een belangrijke rol gaat spelen. Het behouden en aantrekken van personee
 l gaat gebaat met de aantrekkelijkheid van de organisatie.\n\nDuurzame pro
 ducten zijn daarom een zeer interessante oplossing en dat kun je ook nog a
 anschaffen met 55% voordeel via de werkgever! Tijdens het evenement zal He
 t Nationale Hybride Warmtepomp Plan verder toelichten hoe je met een hybri
 de warmtepomp wel €750 tot €2.000 kan besparen op energiekosten. Moore
  MKW geeft toelichting over de fiscale regeling via de werkgever en we gaa
 n in op de (door)werking van duurzaamheid bij medewerkers thuis.\nVoor wie
 ?\nDit evenement is zeer waardevol voor werkgevers\, HR-adviseurs en Accou
 ntants. Maar ook voor functies als Financieel manager of Benefit specialis
 t\, biedt dit evenement veel nieuwe inzichten. Tijdens het event delen we 
 de mogelijkheden om medewerkers thuis duurzaam te ondersteunen\, speciale 
 fiscale voordelen die hierop van toepassing zijn en de (door)werking van d
 uurzaamheid bij medewerker thuis.\n\nAanmelden\n\n\n\n\n\n\n\n\n\n\n\n
ATTACH;FMTTYPE=image/jpeg:https://www.duurzaam-ondernemen.nl/wordpress/wp-
 content/uploads/2024/01/groen_arbeid.jpeg
CATEGORIES:Duurzaamheidsprofessionals,Klimaat en Energie
LOCATION:MKB Deventer\, Zutphenseweg 6\, Deventer\, 7418 AJ\, Nederland
GEO:52.243065;6.167831
X-APPLE-STRUCTURED-LOCATION;VALUE=URI;X-ADDRESS=Zutphenseweg 6\, Deventer\,
  7418 AJ\, Nederland;X-APPLE-RADIUS=100;X-TITLE=MKB Deventer:geo:52.243065
 ,6.167831
END:VEVENT
BEGIN:VTIMEZONE
TZID:Europe/Amsterdam
X-LIC-LOCATION:Europe/Amsterdam
BEGIN:STANDARD
DTSTART:20231029T020000
TZOFFSETFROM:+0200
TZOFFSETTO:+0100
TZNAME:CET
END:STANDARD
END:VTIMEZONE
END:VCALENDAR