BEGIN:VCALENDAR
VERSION:2.0
PRODID:-//wp-events-plugin.com//7.2.3.1//EN
TZID:Europe/Amsterdam
X-WR-TIMEZONE:Europe/Amsterdam
BEGIN:VEVENT
UID:2023@duurzaam-ondernemen.nl
DTSTART;TZID=Europe/Amsterdam:20260414T100000
DTEND;TZID=Europe/Amsterdam:20260416T170000
DTSTAMP:20260306T093756Z
URL:https://www.duurzaam-ondernemen.nl/events/ams-scientific-conference-20
 26-reinventing-the-city-2026-connecting-the-dots-closing-the-loops/
SUMMARY:AMS Scientific Conference 2026: Reinventing the City - Connecting t
 he Dots\, Closing the Loops
DESCRIPTION:Cities are where we live\, work\, care\, and play in ever-growi
 ng numbers\, and where urgent transitions of our time take shape.\n\nFrom 
 climate adaptation and resource scarcity to social cohesion and governance
 \, cities demand new ways of thinking\, collaborating and innovating. Duri
 ng this three-day conference\, we explore how science can help connect the
  dots and close the loops needed to reinvent our cities.\n\nOver three day
 s\, with over 500 participants\, the conference combines applied and funda
 mental research through thought-provoking keynotes\, workshops\, paper pre
 sentations\, and discussions\, all focused on the most pressing urban chal
 lenges.\n\n 	Day 1: Unexpected Dots\, Unexpected Connections\n 	Day 2: C
 losing the Loops\n 	Day 3: Breaking the Boundaries\n\nThe AMS Scientific 
 Conference brings together scientists\, policymakers\, industry partners a
 nd students working on the future of cities.\n\nWhether you work on urban 
 research\, governance\, design or innovation\, this conference offers a un
 iqe international platform to exchange insights and build new connections.
 \n\n\n\nMore information
ATTACH;FMTTYPE=image/jpeg:https://www.duurzaam-ondernemen.nl/wordpress/wp-
 content/uploads/2026/03/200126_home_pagina.png
CATEGORIES:Bouw/Infra &amp; Vastgoed,Circulaire
 economie,Duurzaamheidsprofessionals,Klimaat en Energie
LOCATION:CRCL Park - Marineterrein\, Kattenburgerstraat 5\, Building 027W\,
  Amsterdam\, 1018 JA\, Nederland
GEO:52.372968;4.916703
X-APPLE-STRUCTURED-LOCATION;VALUE=URI;X-ADDRESS=Kattenburgerstraat 5\, Buil
 ding 027W\, Amsterdam\, 1018 JA\, Nederland;X-APPLE-RADIUS=100;X-TITLE=CRC
 L Park - Marineterrein:geo:52.372968,4.916703
END:VEVENT
BEGIN:VTIMEZONE
TZID:Europe/Amsterdam
X-LIC-LOCATION:Europe/Amsterdam
BEGIN:DAYLIGHT
DTSTART:20260329T030000
TZOFFSETFROM:+0100
TZOFFSETTO:+0200
TZNAME:CEST
END:DAYLIGHT
END:VTIMEZONE
END:VCALENDAR