BEGIN:VCALENDAR
VERSION:2.0
PRODID:-//wp-events-plugin.com//7.2.3.1//EN
TZID:Europe/Amsterdam
X-WR-TIMEZONE:Europe/Amsterdam
BEGIN:VEVENT
UID:1206@duurzaam-ondernemen.nl
DTSTART;TZID=Europe/Amsterdam:20240229T100000
DTEND;TZID=Europe/Amsterdam:20240229T170000
DTSTAMP:20240115T180156Z
URL:https://www.duurzaam-ondernemen.nl/events/6-masterclasses-van-voorlope
 rs-in-de-nieuwe-economie/
SUMMARY:6 masterclasses van voorlopers in de nieuwe economie
DESCRIPTION:Met schrikkeldag hebben we dit jaar een dag extra. Laat die dag
  niet opslokken door het alledaagse maar neem deel aan de make-a-leap day!
  In zes masterclasses ontvang je handvatten voor postgroei in de praktijk\
 , inzichten en inspiratie waarmee je koers kunt zetten in een tijd van cha
 os en verandering.\nMET MASTERCLASSES VAN:\nPaul Schenderling: Geeft handv
 atten voor beleid en strategie\, zodat je als professional bij de overheid
  een nieuwe manier van denken in kunt zetten voor een gelukkiger Nederland
  dat binnen de draagkracht van de aarde leeft.\n\nKlaske Kruk: Neemt de z
 aal op speelse wijze mee in de verschillende stappen die je morgen kunt ui
 tvoeren in je organisatie. Je leert van de andere deelnemers die op sommig
 e punten misschien een stap verder zijn dan jij\, of jij inspireert op som
 mige onderwerpen iemand met jouw impactvolle stappen.\n\nBabette Porcelijn
 : Hoe kunnen we onze toekomst veiligstellen? Verduurzamen is een essenti
 ële bouwsteen. Maar dat is nog niet alles. Naast een levende planeet hebb
 en we ook welzijn voor iedereen en een gezonde economie nodig. Babette laa
 t zien hoe je dit in de praktijk kunt brengen en hoe iedereen het verschil
  kan maken\, als je maar weet hoe.\n\nAlexander Groen: Hoe maak je jouw i
 nvloed om positief bij te dragen aan leven binnen de grenzen van één pla
 neet zo groot mogelijk? Ervaar vanuit klimaatpsychologie en kennis over tr
 ansformaties hoe jij je voetprint en handafdruk kunt vergroten.\n\nElisah 
 Pals: Wat heeft minder afval nou te maken met postgroei? Elisah neemt je 
 mee in het alternatief van de consumptiemaatschappij\, en geeft een inspir
 erend inkijkje in toegepaste psychologie en communitybuilding.\n\nMerlijn 
 Twaalfhoven: Zonder schoonheid\, verbeelding en speelruimte kan er geen 
 fundamentele cultuuromslag ontstaan. Hoe maken we ruimte voor de kunstenaa
 r in onszelf in een tijd van chaos\, onzekerheid en transitiepijn?\n\nMeer
  informatie/aanmelden
ATTACH;FMTTYPE=image/jpeg:https://www.duurzaam-ondernemen.nl/wordpress/wp-
 content/uploads/2024/01/6mc.jpeg
CATEGORIES:Duurzaamheidsprofessionals
LOCATION:Bergkerk\,  Dr. A. Kuyperlaan 2\, Amersfoort\, Nederland
GEO:52.09767;5.234693
X-APPLE-STRUCTURED-LOCATION;VALUE=URI;X-ADDRESS= Dr. A. Kuyperlaan 2\, Amer
 sfoort\, Nederland;X-APPLE-RADIUS=100;X-TITLE=Bergkerk:geo:52.09767,5.2346
 93
END:VEVENT
BEGIN:VTIMEZONE
TZID:Europe/Amsterdam
X-LIC-LOCATION:Europe/Amsterdam
BEGIN:STANDARD
DTSTART:20231029T020000
TZOFFSETFROM:+0200
TZOFFSETTO:+0100
TZNAME:CET
END:STANDARD
END:VTIMEZONE
END:VCALENDAR