BEGIN:VCALENDAR
VERSION:2.0
PRODID:-//wp-events-plugin.com//7.2.3.1//EN
TZID:Europe/Amsterdam
X-WR-TIMEZONE:Europe/Amsterdam
BEGIN:VEVENT
UID:1893@duurzaam-ondernemen.nl
DTSTART;TZID=Europe/Amsterdam:20260206T100000
DTEND;TZID=Europe/Amsterdam:20260206T170000
DTSTAMP:20260206T083117Z
URL:https://www.duurzaam-ondernemen.nl/events/15e-nationale-sustainability
 -career-event/
SUMMARY:15e Nationale Sustainability Career Event
DESCRIPTION:Op 6 februari vindt het nationale Sustainability Career Even
 t plaats in de Jaarbeurs Utrecht. De grootste nationale carrièrebeurs vo
 or studenten &amp\; starters uit heel Nederland die duurzaamheid belangrij
 k vinden!\nVoor het 15e jaar op rij komen hier studenten en starters uit
  het hele land samen om kansen te ontdekken waarmee ze duurzame impact kun
 nen maken.\nMeer informatie: www.sustainabilitycareerevent.nl
ATTACH;FMTTYPE=image/jpeg:https://www.duurzaam-ondernemen.nl/wordpress/wp-
 content/uploads/2025/11/sustainability-career-event_2026.jpg
CATEGORIES:Duurzaamheidsprofessionals
LOCATION:Jaarbeurs\, Jaarbeursplein\, Utrecht\, 3521 AL\, Nederland
GEO:52.090276;5.105317
X-APPLE-STRUCTURED-LOCATION;VALUE=URI;X-ADDRESS=Jaarbeursplein\, Utrecht\, 
 3521 AL\, Nederland;X-APPLE-RADIUS=100;X-TITLE=Jaarbeurs:geo:52.090276,5.1
 05317
END:VEVENT
BEGIN:VTIMEZONE
TZID:Europe/Amsterdam
X-LIC-LOCATION:Europe/Amsterdam
BEGIN:STANDARD
DTSTART:20251026T020000
TZOFFSETFROM:+0200
TZOFFSETTO:+0100
TZNAME:CET
END:STANDARD
END:VTIMEZONE
END:VCALENDAR