BEGIN:VCALENDAR
VERSION:2.0
PRODID:-//wp-events-plugin.com//7.2.3.1//EN
TZID:Europe/Amsterdam
X-WR-TIMEZONE:Europe/Amsterdam
BEGIN:VEVENT
UID:1936@duurzaam-ondernemen.nl
DTSTART;TZID=Europe/Amsterdam:20260324T140000
DTEND;TZID=Europe/Amsterdam:20260324T180000
DTSTAMP:20260324T161219Z
URL:https://www.duurzaam-ondernemen.nl/events/13e-editie-the-future-of-cor
 porate-reporting/
SUMMARY:13e editie The Future of Corporate Reporting
DESCRIPTION:Op dinsdag 24 maart 2026 vindt de 13de editie van the Future of
  Corporate Reporting plaats. Al meer dan een decennium lang hét evenement
  voor de finance\, sustainability en corporate reporting professional die 
 voorbereid wil zijn op de toekomst van dit vakgebied.\n\nCorporate reporti
 ng verandert snel. Nieuwe verslaggevingsstandaarden\, hogere transparantie
 -eisen en de groeiende rol van duurzaamheidsinformatie maken zichtbaar dat
  rapportage steeds directer samenhangt met hoe organisaties worden aangest
 uurd.\n\nGoede corporate reporting ondersteunt besluitvorming en maakt waa
 rdecreatie inzichtelijk. Dat vraagt om heldere definities\, samenhang tuss
 en financiële en niet-financiële informatie en rapportages die aansluite
 n op de managementcyclus. The Future of Corporate Reporting laat zien hoe 
 organisaties hier invulling aan geven en welke rol finance en sustainabili
 ty daarin vervullen. Ben je er ook bij?\nEr is doorgaans veel interesse vo
 or dit evenement. Meld je op tijd aan om zeker te zijn van een plek.\nSpre
 kers\nJasper de Wit\, CFO Haskoning | Chief Value Officer of the Year 2025
 \n\nProf. dr. Willem Schramade\, Hoogleraar Finance aan Nyenrode Business 
 Universiteit en Fellow van het Erasmus Platform for Sustainable Value Crea
 tion\n\nKim Schoppink\, Europe Regional Lead bij het Science Based Targets
  initiative (SBTi)\nVoor wie is dit event interessant?\n\n 	Finance profes
 sionals verantwoordelijk voor financiële en managementrapportages\n 	Sus
 tainability managers die duurzaamheidsdoelen willen verankeren in de regu
 liere sturing en rapportage\n 	Controllers die samenhang willen aanbrenge
 n tussen financiële en niet-financiële informatie\n 	C-level executives
  die inzicht zoeken in hoe geïntegreerde rapportage bijdraagt aan sturin
 g en langetermijnwaarde\n\nAanmelden 
ATTACH;FMTTYPE=image/jpeg:https://www.duurzaam-ondernemen.nl/wordpress/wp-
 content/uploads/2025/12/DO-BANNER.png
CATEGORIES:Verslaggeving &amp; Transparantie
LOCATION:Green Village\, Blokhoeve 7\, Nieuwegein\, 3438 LC\, Nederland
GEO:52.049591;5.091462
X-APPLE-STRUCTURED-LOCATION;VALUE=URI;X-ADDRESS=Blokhoeve 7\, Nieuwegein\, 
 3438 LC\, Nederland;X-APPLE-RADIUS=100;X-TITLE=Green Village:geo:52.049591
 ,5.091462
END:VEVENT
BEGIN:VTIMEZONE
TZID:Europe/Amsterdam
X-LIC-LOCATION:Europe/Amsterdam
BEGIN:STANDARD
DTSTART:20251026T020000
TZOFFSETFROM:+0200
TZOFFSETTO:+0100
TZNAME:CET
END:STANDARD
END:VTIMEZONE
END:VCALENDAR